Workbook
Name A100A: 'RAPOR MİZANI-AKTİF'!$D$6
Name A101A: 'RAPOR MİZANI-AKTİF'!$D$21
Name A102A: 'RAPOR MİZANI-AKTİF'!$D$7
Name A108A: 'RAPOR MİZANI-AKTİF'!$D$9
Name A110A: 'RAPOR MİZANI-AKTİF'!$D$11
Name A111A: 'RAPOR MİZANI-AKTİF'!$D$12
Name A112A: 'RAPOR MİZANI-AKTİF'!$D$13
Name A118A: 'RAPOR MİZANI-AKTİF'!$D$14
Name A119A: 'RAPOR MİZANI-AKTİF'!$D$15
Name A120A: 'RAPOR MİZANI-AKTİF'!$D$17
Name A121A: 'RAPOR MİZANI-AKTİF'!$D$22
Name A122A: 'RAPOR MİZANI-AKTİF'!$D$25
Name A126A: 'RAPOR MİZANI-AKTİF'!$D$23
Name A127A: 'RAPOR MİZANI-AKTİF'!$D$24
Name A128A: 'RAPOR MİZANI-AKTİF'!$D$20
Name A129A: 'RAPOR MİZANI-AKTİF'!$D$26
Name A131A: 'RAPOR MİZANI-AKTİF'!$D$28
Name A132A: 'RAPOR MİZANI-AKTİF'!$D$29
Name A133A: 'RAPOR MİZANI-AKTİF'!$D$30
Name A135A: 'RAPOR MİZANI-AKTİF'!$D$31
Name A136A: 'RAPOR MİZANI-AKTİF'!$D$32
Name A137A: 'RAPOR MİZANI-AKTİF'!$D$33
Name A138A: 'RAPOR MİZANI-AKTİF'!$D$34
Name A139A: 'RAPOR MİZANI-AKTİF'!$D$35
Name A150A: 'RAPOR MİZANI-AKTİF'!$D$39
Name A151A: 'RAPOR MİZANI-AKTİF'!$D$40
Name A152A: 'RAPOR MİZANI-AKTİF'!$D$41
Name A153A: 'RAPOR MİZANI-AKTİF'!$D$42
Name A154A: 'RAPOR MİZANI-AKTİF'!$D$43
Name A155A: 'RAPOR MİZANI-AKTİF'!$D$44
Name A159A: 'RAPOR MİZANI-AKTİF'!$D$45
Name A171A: 'RAPOR MİZANI-AKTİF'!$D$48
Name A179A: 'RAPOR MİZANI-AKTİF'!$D$49
Name A180A: 'RAPOR MİZANI-AKTİF'!$D$52
Name A181A: 'RAPOR MİZANI-AKTİF'!$D$53
Name A190A: 'RAPOR MİZANI-AKTİF'!$D$54
Name A191A: 'RAPOR MİZANI-AKTİF'!$D$55
Name A192A: 'RAPOR MİZANI-AKTİF'!$D$56
Name A193A: 'RAPOR MİZANI-AKTİF'!$D$57
Name A195A: 'RAPOR MİZANI-AKTİF'!$D$58
Name A196A: 'RAPOR MİZANI-AKTİF'!$D$59
Name A197A: 'RAPOR MİZANI-AKTİF'!$D$60
Name A198A: 'RAPOR MİZANI-AKTİF'!$D$61
Name A199A: 'RAPOR MİZANI-AKTİF'!$D$62
Name A220A: 'RAPOR MİZANI-AKTİF'!$D$67
Name A221A: 'RAPOR MİZANI-AKTİF'!$D$69
Name A222A: 'RAPOR MİZANI-AKTİF'!$D$73
Name A226A: 'RAPOR MİZANI-AKTİF'!$D$70
Name A227A: 'RAPOR MİZANI-AKTİF'!$D$71
Name A229A: 'RAPOR MİZANI-AKTİF'!$D$74
Name A231A: 'RAPOR MİZANI-AKTİF'!$D$76
Name A232A: 'RAPOR MİZANI-AKTİF'!$D$77
Name A233A: 'RAPOR MİZANI-AKTİF'!$D$78
Name A235A: 'RAPOR MİZANI-AKTİF'!$D$79
Name A236A: 'RAPOR MİZANI-AKTİF'!$D$80
Name A237A: 'RAPOR MİZANI-AKTİF'!$D$81
Name A239A: 'RAPOR MİZANI-AKTİF'!$D$82
Name A240A: 'RAPOR MİZANI-AKTİF'!$D$84
Name A241A: 'RAPOR MİZANI-AKTİF'!$D$85
Name A242A: 'RAPOR MİZANI-AKTİF'!$D$86

Sheet DENETİM BİLGİLERİ
A1: DENETİM CALIŞMA KAĞITLARINI OLUŞTURMADAN ÖNCE AŞAĞIDAKİ BİLGİLERİ GİRİNİZ.
A3: FİRMA ADI : | B3: İDEALİST GAYRİMENKUL YATIRIM ORTAKLIĞI A.Ş.
A4: İNCELENEN DÖNEM : | B4: 41639
A5: ÖNCEKİ DÖNEM : | B5: 41274
A6: HAZIRLAYAN | B6: Serkan Kocabıyık
A7: İNCELEYEN | B7: Engin Bilze
A8: HAZIRLANMA TARİHİ | B8: 41659

Sheet AYRINTILI MİZAN
A1: Hesap kodu | B1: Hesap adı | C1: TL Borç | D1: TL Alacak | E1: TL Borç bakiye | F1: TL Alacak bakiye
A2: 1 | B2: DÖNEN VARLIKLAR | C2: 17783009 | D2: 8946548.6 | E2: 8836460.4 | G2: =ROUND((E2-F2),0) -> 8836460
A3: 10 | B3: HAZIR DEĞERLER | C3: 1655614 | D3: 1010513.2 | E3: 645100.81 | G3: =ROUND((E3-F3),0) -> 645101
A4: 100 | B4: KASA | C4: 15228.59 | D4: 14913.67 | E4: 314.92 | G4: =ROUND((E4-F4),0) -> 315
A5: 100.10 | B5: YTL KASA | C5: 15228.59 | D5: 14913.67 | E5: 314.92 | G5: =ROUND((E5-F5),0) -> 315
A6: 100.10.001 | B6: Merkez Kasa | C6: 15228.59 | D6: 14913.67 | E6: 314.92 | G6: =ROUND((E6-F6),0) -> 315 | K6: 548 | M6: 19853
A7: 102 | B7: BANKALAR | C7: 1640385.4 | D7: 995599.53 | E7: 644785.89 | G7: =ROUND((E7-F7),0) -> 644786 | M7: 760079
A8: 102.10 | B8: VADESİZ YTL HESAPLARI | C8: 558819.75 | D8: 534888.54 | E8: 23931.21 | G8: =ROUND((E8-F8),0) -> 23931 | K8: 779932
A9: 102.10.02 | B9: TÜRKİYE FİNANS KATILIM BANKASI HESAPLARI | C9: 470373.83 | D9: 461289.79 | E9: 9084.04 | G9: =ROUND((E9-F9),0) -> 9084
A10: 102.10.02.01 | B10: T.Finans / Çamlıca Şubesi / 818381-3 | C10: 470373.83 | D10: 461289.79 | E10: 9084.04 | G10: =ROUND((E10-F10),0) -> 9084
A11: 102.10.03 | B11: DENİZBANK HESAPLARI | C11: 1774.25 | D11: 1208.5 | E11: 565.75 | G11: =ROUND((E11-F11),0) -> 566
A12: 102.10.03.01 | B12: Denizbank / Altunizade / 2850014-351 | C12: 1774.25 | D12: 1208.5 | E12: 565.75 | G12: =ROUND((E12-F12),0) -> 566
A13: 102.10.04 | B13: HSBC HESAPLARI | C13: 86187 | D13: 72085 | E13: 14102 | G13: =ROUND((E13-F13),0) -> 14102
A14: 102.10.04.01 | B14: Hsbc / Beylerbeyi Şubesi / 1016090-282 | C14: 86187 | D14: 72085 | E14: 14102 | G14: =ROUND((E14-F14),0) -> 14102
A15: 102.10.12 | B15: FİNANSBANK HESAPLARI | C15: 484.67 | D15: 305.25 | E15: 179.42 | G15: =ROUND((E15-F15),0) -> 179
A16: 102.10.12.02 | B16: Finansbank / E 5 Bostancı / 26841977 | C16: 484.67 | D16: 305.25 | E16: 179.42 | G16: =ROUND((E16-F16),0) -> 179
A17: 102.20 | B17: VADELİ YTL HESAPLARI | C17: 1081565.7 | D17: 460710.99 | E17: 620854.68 | G17: =ROUND((E17-F17),0) -> 620855 | H17: =G7-G17 -> 23931
A18: 102.20.01 | B18: TÜRKİYE FİNANS KATILIM BANKASI HESAPLARI | C18: 1081565.7 | D18: 460710.99 | E18: 620854.68 | G18: =ROUND((E18-F18),0) -> 620855
A19: 102.20.01.04 | B19: T.Finans / Çamlıca / 818381-1006 | C19: 598258.39 | D19: 425715.9 | E19: 172542.49 | G19: =ROUND((E19-F19),0) -> 172542
A20: 102.20.01.05 | B20: T.Finans / Çamlıca / 818381-1007 | C20: 483307.28 | D20: 34995.09 | E20: 448312.19 | G20: =ROUND((E20-F20),0) -> 448312
A21: 12 | B21: TİCARİ ALACAKLAR | C21: 1784.46 | D21: 0 | E21: 1784.46 | G21: =ROUND((E21-F21),0) -> 1784
A22: 126 | B22: VERİLEN DEPOZİTO VE TEMİNATLAR | C22: 1784.46 | D22: 0 | E22: 1784.46 | G22: =ROUND((E22-F22),0) -> 1784 | I22: 17607
A23: 126.10 | B23: DİĞER KİŞİ VE KURUL.VER.DEP.VE TEMİNAT. | C23: 1784.46 | D23: 0 | E23: 1784.46 | G23: =ROUND((E23-F23),0) -> 1784 | I23: 1784
A24: 126.10.1 | B24: ARACI KURUM.VER.DEP.VE TEMİNAT. | C24: 100 | D24: 0 | E24: 100 | G24: =ROUND((E24-F24),0) -> 100
A25: 126.10.1.101 | B25: Bizim Menkul Değerler A.Ş. | C25: 100 | D25: 0 | E25: 100 | G25: =ROUND((E25-F25),0) -> 100
A26: 126.10.2 | B26: RESMİ KURUMLARA VERİLEN DEP.TEMİNATLAR | C26: 1684.46 | D26: 0 | E26: 1684.46 | G26: =ROUND((E26-F26),0) -> 1684
A27: 126.10.2.101 | B27: Ayedaş A.Ş. | C27: 1684.46 | D27: 0 | E27: 1684.46 | G27: =ROUND((E27-F27),0) -> 1684
A28: 13 | B28: DİĞER ALACAKLAR | C28: 17607.17 | D28: 0 | E28: 17607.17 | G28: =ROUND((E28-F28),0) -> 17607
A29: 136 | B29: DİĞER ÇEŞİTLİ ALACAKLAR | C29: 17607.17 | D29: 0 | E29: 17607.17 | G29: =ROUND((E29-F29),0) -> 17607
A30: 136.10 | B30: VERGİ DAİRELERİNDEN ALACAKLAR | C30: 17607.17 | D30: 0 | E30: 17607.17 | G30: =ROUND((E30-F30),0) -> 17607
A31: 136.10.4 | B31: DİĞER STOPAJ KESİNTİLERİ | C31: 17607.17 | D31: 0 | E31: 17607.17 | G31: =ROUND((E31-F31),0) -> 17607
A32: 136.10.4.004 | B32: 2010 Yılı Diğer Stopaj Vergi Alacağı | C32: 481.98 | D32: 0 | E32: 481.98 | G32: =ROUND((E32-F32),0) -> 482
A33: 136.10.4.005 | B33: 2011 Yılı Diğer Stopaj V.Alac. | C33: 4496.7 | D33: 0 | E33: 4496.7 | G33: =ROUND((E33-F33),0) -> 4497
A34: 136.10.4.006 | B34: 2012 Yılı Diğer Stopaj Alacakları | C34: 12628.49 | D34: 0 | E34: 12628.49 | G34: =ROUND((E34-F34),0) -> 12628
A35: 15 | B35: STOKLAR | C35: 7500000 | D35: 0 | E35: 7500000 | G35: =ROUND((E35-F35),0) -> 7500000
A36: 153 | B36: TİCARİ MALLAR | C36: 7500000 | D36: 0 | E36: 7500000 | G36: =ROUND((E36-F36),0) -> 7500000
A37: 153.10 | B37: TİCARİ MALLAR | C37: 7500000 | D37: 0 | E37: 7500000 | G37: =ROUND((E37-F37),0) -> 7500000
A38: 153.10.2 | B38: VİLLALAR | C38: 7500000 | D38: 0 | E38: 7500000 | G38: =ROUND((E38-F38),0) -> 7500000
A39: 153.10.2.001 | B39: 320704 Sözl.106 Pars.Manolya 5-1, 0 / 1 4+1 Villa | C39: 625000 | D39: 0 | E39: 625000 | G39: =ROUND((E39-F39),0) -> 625000
A40: 153.10.2.002 | B40: 320705 Sözl.106 Pars.Manolya 5-2, 0 / 1 4+1 Villa | C40: 625000 | D40: 0 | E40: 625000 | G40: =ROUND((E40-F40),0) -> 625000
A41: 153.10.2.003 | B41: 321829 Sözl.106 Pars.Manolya 5-3, 0 / 1 4+1 Villa | C41: 625000 | D41: 0 | E41: 625000 | G41: =ROUND((E41-F41),0) -> 625000
A42: 153.10.2.004 | B42: 321830 Sözl.106 Pars.Manolya 5-4, 0 / 1 4+1 Villa | C42: 625000 | D42: 0 | E42: 625000 | G42: =ROUND((E42-F42),0) -> 625000
A43: 153.10.2.005 | B43: 321831 Sözl.106 Pars.Manolya 5-7, 0 / 1 4+1 Villa | C43: 625000 | D43: 0 | E43: 625000 | G43: =ROUND((E43-F43),0) -> 625000
A44: 153.10.2.006 | B44: 321832 Sözl.106 Pars.Manolya 5-8, 0 / 1 4+1 Villa | C44: 625000 | D44: 0 | E44: 625000 | G44: =ROUND((E44-F44),0) -> 625000
A45: 153.10.2.007 | B45: 321833 Sözl.106 Pars.Manolya 5-9, 1 / 1 4+1 Villa | C45: 625000 | D45: 0 | E45: 625000 | G45: =ROUND((E45-F45),0) -> 625000
A46: 153.10.2.008 | B46: 321834 Sözl.106 Pars.Manolya 5-10, 0 / 1 4+1 Villa | C46: 625000 | D46: 0 | E46: 625000 | G46: =ROUND((E46-F46),0) -> 625000
A47: 153.10.2.009 | B47: 321835 Sözl.106 Pars.Manolya 5-11,1 / 1 4+1 Villa | C47: 625000 | D47: 0 | E47: 625000 | G47: =ROUND((E47-F47),0) -> 625000
A48: 153.10.2.010 | B48: 321836 Sözl.106 Pars.Manolya 5-12, 1 / 1 4+1 Villa | C48: 625000 | D48: 0 | E48: 625000 | G48: =ROUND((E48-F48),0) -> 625000
... A51: 18 | B51: GELECEK AY. AİT GİDER.VE GEL.T | C51: 18429.15 | D51: 18081.35 | E51: 347.8 | G51: =ROUND((E51-F51),0) -> 348
A52: 180 | B52: GELECEK AYLARA AİT GİDERLER | C52: 5852.99 | D52: 5852.99 | G52: =ROUND((E52-F52),0) -> 0
A53: 180.10 | B53: 1.DÖNEM GEÇİCİ VERGİ GİDERLERİ | C53: 1093.19 | D53: 1093.19 | G53: =ROUND((E53-F53),0) -> 0
A54: 180.10.4 | B54: GELECEK AYL.AİT SİGORTA KASKO GİDERLERİ | C54: 1093.19 | D54: 1093.19 | G54: =ROUND((E54-F54),0) -> 0
A55: 180.10.4.401 | B55: Sigorta Ve Kasko Giderleri | C55: 1093.19 | D55: 1093.19 | G55: =ROUND((E55-F55),0) -> 0
A56: 180.20 | B56: 2.DÖNEM GEÇİCİ VERGİ GİDERLERİ | C56: 1575.02 | D56: 1575.02 | G56: =ROUND((E56-F56),0) -> 0
A57: 180.20.4 | B57: GELECEK AYL.AİT SİGORTA KASKO GİDERLERİ | C57: 1575.02 | D57: 1575.02 | G57: =ROUND((E57-F57),0) -> 0
A58: 180.20.4.401 | B58: Sigorta Ve Kasko Giderleri | C58: 1575.02 | D58: 1575.02 | G58: =ROUND((E58-F58),0) -> 0
A59: 180.30 | B59: 3.DÖNEM GEÇİCİ VERGİ GİDERLERİ | C59: 1592.39 | D59: 1592.39 | G59: =ROUND((E59-F59),0) -> 0
A60: 180.30.4 | B60: GELECEK AYL.AİT SİGORTA KASKO GİDERLERİ | C60: 1592.39 | D60: 1592.39 | G60: =ROUND((E60-F60),0) -> 0
A61: 180.30.4.401 | B61: Sigorta Ve Kasko Giderleri | C61: 1592.39 | D61: 1592.39 | G61: =ROUND((E61-F61),0) -> 0
A62: 180.40 | B62: 4.DÖNEM GEÇİCİ VERGİ GİDERLERİ | C62: 1592.39 | D62: 1592.39 | G62: =ROUND((E62-F62),0) -> 0
A63: 180.40.4 | B63: GELECEK AYL.AİT SİGORTA KASKO GİDERLERİ | C63: 1592.39 | D63: 1592.39 | G63: =ROUND((E63-F63),0) -> 0
A64: 180.40.4.401 | B64: Sigorta Ve Kasko Giderleri | C64: 1592.39 | D64: 1592.39 | G64: =ROUND((E64-F64),0) -> 0
A65: 181 | B65: GELİR TAHAKKUKLARI | C65: 12576.16 | D65: 12228.36 | E65: 347.8 | G65: =ROUND((E65-F65),0) -> 348
A66: 181.20 | B66: VADELİ YTL HES.FAİZ GELİR TAHAKKUKLARI | C66: 12576.16 | D66: 12228.36 | E66: 347.8 | G66: =ROUND((E66-F66),0) -> 348
A67: 181.20.004 | B67: T.Finans / Çamlıca /818381-1006 | C67: 6132.3 | D67: 5878.9 | E67: 253.4 | G67: =ROUND((E67-F67),0) -> 253
A68: 181.20.005 | B68: T.Finans / Çamlıca / 818381-1007 | C68: 6443.86 | D68: 6349.46 | E68: 94.4 | G68: =ROUND((E68-F68),0) -> 94
A69: 19 | B69: DİĞER DÖNEN VARLIKLAR | C69: 8589574.2 | D69: 7917954 | E69: 671620.15 | G69: =ROUND((E69-F69),0) -> 671620
A70: 190 | B70: DEVREDEN KATMA DEĞER VERGİSİ | C70: 8552970.2 | D70: 7890068.9 | E70: 662901.29 | G70: =ROUND((E70-F70),0) -> 662901
A71: 190.41 | B71: Sonraki Döneme Devreden Kdv | C71: 8552970.2 | D71: 7890068.9 | E71: 662901.29 | G71: =ROUND((E71-F71),0) -> 662901
A72: 191 | B72: İNDİRİLECEK KDV | C72: 9663.69 | D72: 9663.69 | G72: =ROUND((E72-F72),0) -> 0
A73: 191.33 | B73: BU DÖNEME AİT İNDİRİLECEK KDV | C73: 9663.69 | D73: 9663.69 | G73: =ROUND((E73-F73),0) -> 0
A74: 191.33.001 | B74: % 1 İndirilecek Kdv | C74: 8.56 | D74: 8.56 | G74: =ROUND((E74-F74),0) -> 0
A75: 191.33.008 | B75: % 8 İndirilecek Kdv | C75: 97.77 | D75: 97.77 | G75: =ROUND((E75-F75),0) -> 0
A76: 191.33.018 | B76: % 18 İndirilecek Kdv | C76: 9557.36 | D76: 9557.36 | G76: =ROUND((E76-F76),0) -> 0
A77: 193 | B77: PEŞİN ÖDENEN VERGİ VE FONLAR | C77: 16940.29 | D77: 8221.43 | E77: 8718.86 | G77: =ROUND((E77-F77),0) -> 8719
A78: 193.10 | B78: ASGARİ GEÇM İNDİRİMİ | C78: 8229.3 | D78: 8221.43 | E78: 7.87 | G78: =ROUND((E78-F78),0) -> 8
A79: 193.10.001 | B79: Merkez Büro Asgari Geçim İndirimi | C79: 8229.3 | D79: 8221.43 | E79: 7.87 | G79: =ROUND((E79-F79),0) -> 8
A80: 193.20 | B80: FAİZ HESABI TEVKİF EDİL.GV (YTL) | C80: 8710.99 | D80: 0 | E80: 8710.99 | G80: =ROUND((E80-F80),0) -> 8711
A81: 193.20.004 | B81: T.Finans / Çamlıca / 818381-1006 | C81: 3715.9 | D81: 0 | E81: 3715.9 | G81: =ROUND((E81-F81),0) -> 3716
A82: 193.20.005 | B82: T.Finans / 818381-1007 | C82: 4995.09 | D82: 0 | E82: 4995.09 | G82: =ROUND((E82-F82),0) -> 4995
A83: 196 | B83: PERSONEL AVANSLARI | C83: 10000 | D83: 10000 | G83: =ROUND((E83-F83),0) -> 0
A84: 196.10 | B84: Yusuf Şimşek | C84: 10000 | D84: 10000 | G84: =ROUND((E84-F84),0) -> 0
A85: 2 | B85: DURAN VARLIKLAR | C85: 24576.19 | D85: 18958.39 | E85: 5617.8 | G85: =ROUND((E85-F85),0) -> 5618
A86: 25 | B86: MADDİ DURAN VARLIKLAR | C86: 4323.44 | D86: 4131.84 | E86: 191.6 | G86: =ROUND((E86-F86),0) -> 192
A87: 255 | B87: DEMİRBAŞLAR | C87: 4323.44 | D87: 0 | E87: 4323.44 | G87: =ROUND((E87-F87),0) -> 4323
A88: 255.01 | B88: BİLGİSAYAR VE BÜRO MAKİNELERİ | C88: 4323.44 | D88: 0 | E88: 4323.44 | G88: =ROUND((E88-F88),0) -> 4323
A89: 255.01.001 | B89: 1 Adet Müdür Masa-Koltuk Takımı | C89: 1294.5 | D89: 0 | E89: 1294.5 | G89: =ROUND((E89-F89),0) -> 1295
A90: 255.01.002 | B90: 1 Adet Bilgisayar | C90: 942.64 | D90: 0 | E90: 942.64 | G90: =ROUND((E90-F90),0) -> 943
A91: 255.01.003 | B91: 1 Adet Labtop | C91: 1320 | D91: 0 | E91: 1320 | G91: =ROUND((E91-F91),0) -> 1320
A92: 255.01.004 | B92: 1 Adet Masaüstü Bilgisayar (2011) | C92: 766.3 | D92: 0 | E92: 766.3 | G92: =ROUND((E92-F92),0) -> 766
A93: 257 | B93: BİRİKMİŞ AMORTİSMANLAR (-) | C93: 0 | D93: 4131.84 | F93: 4131.84 | G93: =ROUND((E93-F93),0) -> -4132
A94: 257.05 | B94: Demirbaş Amortismanları | C94: 0 | D94: 4131.84 | F94: 4131.84 | G94: =ROUND((E94-F94),0) -> -4132
A95: 26 | B95: MADDİ OLMAYAN DURAN VARLIKLAR | C95: 19633.09 | D95: 14826.55 | E95: 4806.54 | G95: =ROUND((E95-F95),0) -> 4807
A96: 260 | B96: HAKLAR | C96: 10600.22 | D96: 0 | E96: 10600.22 | G96: =ROUND((E96-F96),0) -> 10600
A97: 260.00 | B97: TİCARİ MARKA VE İSİMLER | C97: 10600.22 | D97: 0 | E97: 10600.22 | G97: =ROUND((E97-F97),0) -> 10600
A98: 260.00.001 | B98: 'GYO İDEALİST' Markası | C98: 1388.56 | D98: 0 | E98: 1388.56 | G98: =ROUND((E98-F98),0) -> 1389
A99: 260.00.002 | B99: 'KENT İDEALİST' Markası | C99: 1388.56 | D99: 0 | E99: 1388.56 | G99: =ROUND((E99-F99),0) -> 1389
A100: 260.00.003 | B100: 'KENT İDEALİST İSTANBULDA İDEAL OLAN NE VARSA' Markası | C100: 1388.56 | D100: 0 | E100: 1388.56 | G100: =ROUND((E100-F100),0) -> 1389
A101: 260.00.004 | B101: 'İDEAL İSTANBUL' Markası | C101: 1388.56 | D101: 0 | E101: 1388.56 | G101: =ROUND((E101-F101),0) -> 1389
A102: 260.00.005 | B102: 'İDEALİST' Markası | C102: 1000 | D102: 0 | E102: 1000 | G102: =ROUND((E102-F102),0) -> 1000
...

Sheet RAPOR MİZANI-AKTİF
B2: ='DENETİM BİLGİLERİ'!B3 -> İDEALİST GAYRİMENKUL YATIRIM ORTAKLIĞI A.Ş.
B3: 31.12.2013 TARİHLİ DÜZELTİLMİŞ MİZANI
B5: HESAP KODU | C5: REF | D5: HESAP NO - HESAP ADI | E5: ŞİRKET | F5: GEÇMİŞ YIL DÜZELTMELERİ | H5: TASNİF | J5: CARİ DÖNEM DÜZELTMELERİ | L5: RAPOR TL
B6: 100 | C6: 4300.1 | D6: 100-KASA | E6: =IFERROR(VLOOKUP(B6,'AYRINTILI MİZAN'!$A$2:$G$2057,7,FALSE),0) -> 315 | L6: =E6+F6+H6+J6-G6-I6-K6 -> 315
B7: 102 | C7: 4300.2 | D7: 102-BANKALAR | E7: =IFERROR(VLOOKUP(B7,'AYRINTILI MİZAN'!$A$2:$G$2057,7,FALSE),0) -> 644786 | H7: =Tasnifler!C18 -> 348 | L7: =E7+F7+H7+J7-G7-I7-K7 -> 645134
B8: 103 | D8: 103-VERİLEN ÇEKLER | E8: =IFERROR(VLOOKUP(B8,'AYRINTILI MİZAN'!$A$2:$G$2057,7,FALSE),0) -> 0 | L8: =E8+F8+H8+J8-G8-I8-K8 -> 0
B9: 108 | D9: 108-DİĞER HAZIR DEĞERLER | E9: =IFERROR(VLOOKUP(B9,'AYRINTILI MİZAN'!$A$2:$G$2057,7,FALSE),0) -> 0 | L9: =E9+F9+H9+J9-G9-I9-K9 -> 0
E10: =IFERROR(VLOOKUP(B10,'AYRINTILI MİZAN'!$A$2:$G$2057,7,FALSE),0) -> 0 | L10: =E10+F10+H10+J10-G10-I10-K10 -> 0
B11: 110 | D11: 110-HİSSE SENETLERİ | E11: =IFERROR(VLOOKUP(B11,'AYRINTILI MİZAN'!$A$2:$G$2057,7,FALSE),0) -> 0 | L11: =E11+F11+H11+J11-G11-I11-K11 -> 0
B12: 111 | D12: 111-ÖZEL KESİM TAHVİL | E12: =IFERROR(VLOOKUP(B12,'AYRINTILI MİZAN'!$A$2:$G$2057,7,FALSE),0) -> 0 | L12: =E12+F12+H12+J12-G12-I12-K12 -> 0
B13: 112 | D13: 112-KAMU KESİMİ MENKUL | E13: =IFERROR(VLOOKUP(B13,'AYRINTILI MİZAN'!$A$2:$G$2057,7,FALSE),0) -> 0 | L13: =E13+F13+H13+J13-G13-I13-K13 -> 0
B14: 118 | D14: 118-DİĞER MENKUL KIYMETLER | E14: =IFERROR(VLOOKUP(B14,'AYRINTILI MİZAN'!$A$2:$G$2057,7,FALSE),0) -> 0 | L14: =E14+F14+H14+J14-G14-I14-K14 -> 0
B15: 119 | D15: 119-MENK. KIY. DEĞER DÜŞÜK. (-) | E15: =IFERROR(VLOOKUP(B15,'AYRINTILI MİZAN'!$A$2:$G$2057,7,FALSE),0) -> 0 | L15: =E15+F15+H15+J15-G15-I15-K15 -> 0
E16: =IFERROR(VLOOKUP(B16,'AYRINTILI MİZAN'!$A$2:$G$2057,7,FALSE),0) -> 0 | L16: =E16+F16+H16+J16-G16-I16-K16 -> 0
B17: 120 | D17: 120- ALICILAR | E17: =IFERROR(VLOOKUP(B17,'AYRINTILI MİZAN'!$A$2:$G$2057,7,FALSE),0) -> 0 | L17: =E17+F17+H17+J17-G17-I17-K17 -> 0
B18: 123 | D18: 120- ALICILAR REESKONT (-) | E18: =IFERROR(VLOOKUP(B18,'AYRINTILI MİZAN'!$A$2:$G$2057,7,FALSE),0) -> 0 | L18: =E18+F18+H18+J18-G18-I18-K18 -> 0
B19: 121 | D19: 121-ALACAK SENETLERİ | E19: =IFERROR(VLOOKUP(B19,'AYRINTILI MİZAN'!$A$2:$G$2057,7,FALSE),0) -> 0 | L19: =E19+F19+H19+J19-G19-I19-K19 -> 0
D20: DİĞER ALACAKLAR | E20: =IFERROR(VLOOKUP(B20,'AYRINTILI MİZAN'!$A$2:$G$2057,7,FALSE),0) -> 0 | L20: =E20+F20+H20+J20-G20-I20-K20 -> 0
B21: 128 | D21: 128-ŞÜPHELİ ALACAKLAR | E21: =IFERROR(VLOOKUP(B21,'AYRINTILI MİZAN'!$A$2:$G$2057,7,FALSE),0) -> 0 | L21: =E21+F21+H21+J21-G21-I21-K21 -> 0
B22: 101 | D22: 101-ALINAN ÇEKLER | E22: =IFERROR(VLOOKUP(B22,'AYRINTILI MİZAN'!$A$2:$G$2057,7,FALSE),0) -> 0 | L22: =E22+F22+H22+J22-G22-I22-K22 -> 0
B23: 126 | C23: 2600.1 | D23: 126-VERİLEN DEPOZİTO VE TEMİNATLAR | E23: =IFERROR(VLOOKUP(B23,'AYRINTILI MİZAN'!$A$2:$G$2057,7,FALSE),0) -> 1784 | L23: =E23+F23+H23+J23-G23-I23-K23 -> 1784
B24: 124 | D24: 124-KAZANILMAMIŞ ALACAKLAR | E24: =IFERROR(VLOOKUP(B24,'AYRINTILI MİZAN'!$A$2:$G$2057,7,FALSE),0) -> 0 | L24: =E24+F24+H24+J24-G24-I24-K24 -> 0
D25: İLİŞKİLİ TARAFLARDAN ALACAKLAR | E25: =IFERROR(VLOOKUP(B25,'AYRINTILI MİZAN'!$A$2:$G$2057,7,FALSE),0) -> 0 | L25: =E25+F25+H25+J25-G25-I25-K25 -> 0
B26: 127 | D26: 127-DİĞER ŞÜPHELİ ALACAKLAR | E26: =IFERROR(VLOOKUP(B26,'AYRINTILI MİZAN'!$A$2:$G$2057,7,FALSE),0) -> 0 | L26: =E26+F26+H26+J26-G26-I26-K26 -> 0
B27: 122 | D27: 122-ALACAK SENET REESKONTU (-) | E27: =IFERROR(VLOOKUP(B27,'AYRINTILI MİZAN'!$A$2:$G$2057,7,FALSE),0) -> 0 | L27: =E27+F27+H27+J27-G27-I27-K27 -> 0
B28: 129 | D28: 129-ŞÜPHELİ ALACAKLAR KARŞILIĞI (-) | E28: =IFERROR(VLOOKUP(B28,'AYRINTILI MİZAN'!$A$2:$G$2057,7,FALSE),0) -> 0 | L28: =E28+F28+H28+J28-G28-I28-K28 -> 0
E29: =IFERROR(VLOOKUP(B29,'AYRINTILI MİZAN'!$A$2:$G$2057,7,FALSE),0) -> 0 | L29: =E29+F29+H29+J29-G29-I29-K29 -> 0
B30: 131 | D30: 131-ORTAKLARDAN ALACAKLAR | E30: =IFERROR(VLOOKUP(B30,'AYRINTILI MİZAN'!$A$2:$G$2057,7,FALSE),0) -> 0 | L30: =E30+F30+H30+J30-G30-I30-K30 -> 0
B31: 132 | D31: 132-İŞTİRAKLERDEN ALACAKLAR | E31: =IFERROR(VLOOKUP(B31,'AYRINTILI MİZAN'!$A$2:$G$2057,7,FALSE),0) -> 0 | L31: =E31+F31+H31+J31-G31-I31-K31 -> 0
B32: 133 | D32: 133-BAĞLI ORTAKLIKLARDAN ALACAKLAR | E32: =IFERROR(VLOOKUP(B32,'AYRINTILI MİZAN'!$A$2:$G$2057,7,FALSE),0) -> 0 | L32: =E32+F32+H32+J32-G32-I32-K32 -> 0
B33: 135 | D33: 135-PERSONELDEN ALACAKLAR | E33: =IFERROR(VLOOKUP(B33,'AYRINTILI MİZAN'!$A$2:$G$2057,7,FALSE),0) -> 0 | L33: =E33+F33+H33+J33-G33-I33-K33 -> 0
B34: 136 | C34: 2700.2 | D34: 136-DİĞER ALACAKLAR | E34: =IFERROR(VLOOKUP(B34,'AYRINTILI MİZAN'!$A$2:$G$2057,7,FALSE),0)+1 -> 17608 | L34: =E34+F34+H34+J34-G34-I34-K34 -> 17608
B35: 137 | D35: 137-DİĞER AL. SENETLERİ REES. (-) | E35: =IFERROR(VLOOKUP(B35,'AYRINTILI MİZAN'!$A$2:$G$2057,7,FALSE),0) -> 0 | L35: =E35+F35+H35+J35-G35-I35-K35 -> 0
D36: İLİŞKİLİ TARAFLARDAN ALACAKLAR | E36: =IFERROR(VLOOKUP(B36,'AYRINTILI MİZAN'!$A$2:$G$2057,7,FALSE),0) -> 0 | L36: =E36+F36+H36+J36-G36-I36-K36 -> 0
E37: =IFERROR(VLOOKUP(B37,'AYRINTILI MİZAN'!$A$2:$G$2057,7,FALSE),0) -> 0 | L37: =E37+F37+H37+J37-G37-I37-K37 -> 0
B38: 138 | D38: 138-ŞÜPHELİ ALACAKLAR | E38: =IFERROR(VLOOKUP(B38,'AYRINTILI MİZAN'!$A$2:$G$2057,7,FALSE),0) -> 0 | L38: =E38+F38+H38+J38-G38-I38-K38 -> 0
B39: 139 | D39: 139-ŞÜPHELİ ALACAKLAR KARŞILIĞI (-) | E39: =IFERROR(VLOOKUP(B39,'AYRINTILI MİZAN'!$A$2:$G$2057,7,FALSE),0) -> 0 | L39: =E39+F39+H39+J39-G39-I39-K39 -> 0
E40: =IFERROR(VLOOKUP(B40,'AYRINTILI MİZAN'!$A$2:$G$2057,7,FALSE),0) -> 0 | L40: =E40+F40+H40+J40-G40-I40-K40 -> 0
B41: 150 | D41: 150-İLK MADDE MALZEME | E41: =IFERROR(VLOOKUP(B41,'AYRINTILI MİZAN'!$A$2:$G$2057,7,FALSE),0) -> 0 | L41: =E41+F41+H41+J41-G41-I41-K41 -> 0
B42: 151 | D42: 151-YARI MAMULLER | E42: =IFERROR(VLOOKUP(B42,'AYRINTILI MİZAN'!$A$2:$G$2057,7,FALSE),0) -> 0 | L42: =E42+F42+H42+J42-G42-I42-K42 -> 0
B43: 152 | D43: 152-MAMULLER | E43: =IFERROR(VLOOKUP(B43,'AYRINTILI MİZAN'!$A$2:$G$2057,7,FALSE),0) -> 0 | L43: =E43+F43+H43+J43-G43-I43-K43 -> 0
B44: 153 | C44: 2100.1 | D44: 153-TİCARİ MALLAR | E44: =IFERROR(VLOOKUP(B44,'AYRINTILI MİZAN'!$A$2:$G$2057,7,FALSE),0) -> 7500000 | L44: =E44+F44+H44+J44-G44-I44-K44 -> 7500000
B45: 157 | D45: 157-DİĞER STOKLAR | E45: =IFERROR(VLOOKUP(B45,'AYRINTILI MİZAN'!$A$2:$G$2057,7,FALSE),0) -> 0 | L45: =E45+F45+H45+J45-G45-I45-K45 -> 0
E46: =IFERROR(VLOOKUP(B46,'AYRINTILI MİZAN'!$A$2:$G$2057,7,FALSE),0) -> 0 | L46: =E46+F46+H46+J46-G46-I46-K46 -> 0
B47: 155 | D47: 155-STOK DEĞER DÜŞÜKLÜĞÜ (-) | E47: =IFERROR(VLOOKUP(B47,'AYRINTILI MİZAN'!$A$2:$G$2057,7,FALSE),0) -> 0 | L47: =E47+F47+H47+J47-G47-I47-K47 -> 0
B48: 159 | D48: 159-VERİLEN SİPARİŞ AVANSLARI | E48: =IFERROR(VLOOKUP(B48,'AYRINTILI MİZAN'!$A$2:$G$2057,7,FALSE),0) -> 0 | L48: =E48+F48+H48+J48-G48-I48-K48 -> 0
D49: İLİŞKİLİ TARAFLARA VERİLEN SİPARİŞ AVANSLARI | E49: =IFERROR(VLOOKUP(B49,'AYRINTILI MİZAN'!$A$2:$G$2057,7,FALSE),0) -> 0 | L49: =E49+F49+H49+J49-G49-I49-K49 -> 0
E50: =IFERROR(VLOOKUP(B50,'AYRINTILI MİZAN'!$A$2:$G$2057,7,FALSE),0) -> 0 | L50: =E50+F50+H50+J50-G50-I50-K50 -> 0
B51: 171 | D51: 171-YIL. YAY. İNŞ. VE ON. MAL. | E51: =IFERROR(VLOOKUP(B51,'AYRINTILI MİZAN'!$A$2:$G$2057,7,FALSE),0) -> 0 | L51: =E51+F51+H51+J51-G51-I51-K51 -> 0
B52: 179 | D52: 179-TAŞERONLARA VERİLEN AVANSLAR | E52: =IFERROR(VLOOKUP(B52,'AYRINTILI MİZAN'!$A$2:$G$2057,7,FALSE),0) -> 0 | L52: =E52+F52+H52+J52-G52-I52-K52 -> 0
E53: =IFERROR(VLOOKUP(B53,'AYRINTILI MİZAN'!$A$2:$G$2057,7,FALSE),0) -> 0 | L53: =E53+F53+H53+J53-G53-I53-K53 -> 0
B54: 180 | D54: 180-GELECEK AYLARA AİT GİDERLER | E54: =IFERROR(VLOOKUP(B54,'AYRINTILI MİZAN'!$A$2:$G$2057,7,FALSE),0) -> 0 | H54: =Tasnifler!C12 -> 620 | L54: =E54+F54+H54+J54-G54-I54-K54 -> 620 | P54: 5380 | Q54: 5380
B55: 181 | C55: 2700.1 | D55: 181-GELİR TAHAKKUKLARI | E55: =IFERROR(VLOOKUP(B55,'AYRINTILI MİZAN'!$A$2:$G$2057,7,FALSE),0) -> 348 | I55: =Tasnifler!D19 -> 348 | L55: =E55+F55+H55+J55-G55-I55-K55 -> 0 | P55: 5370 | Q55: 5370
B56: 190 | C56: 2700.4 | D56: 190-DEVREDEN KDV | E56: =IFERROR(VLOOKUP(B56,'AYRINTILI MİZAN'!$A$2:$G$2057,7,FALSE),0) -> 662901 | L56: =E56+F56+H56+J56-G56-I56-K56 -> 662901 | P56: 656429 | Q56: 656429
B57: 191 | D57: 191-İNDİRİLECEK KDV | E57: =IFERROR(VLOOKUP(B57,'AYRINTILI MİZAN'!$A$2:$G$2057,7,FALSE),0) -> 0 | L57: =E57+F57+H57+J57-G57-I57-K57 -> 0 | P57: 2539 | Q57: 2359
B58: 192 | D58: 192-DİĞER KDV | E58: =IFERROR(VLOOKUP(B58,'AYRINTILI MİZAN'!$A$2:$G$2057,7,FALSE),0) -> 0 | L58: =E58+F58+H58+J58-G58-I58-K58 -> 0
B59: 193 | C59: 2700.4 | D59: 193-PEŞİN ÖDENEN VERGİLER | E59: =IFERROR(VLOOKUP(B59,'AYRINTILI MİZAN'!$A$2:$G$2057,7,FALSE),0) -> 8719 | L59: =E59+F59+H59+J59-G59-I59-K59 -> 8719 | N59: 5380
B60: 195 | D60: 195-İŞ AVANSLARI | E60: =IFERROR(VLOOKUP(B60,'AYRINTILI MİZAN'!$A$2:$G$2057,7,FALSE),0) -> 0 | L60: =E60+F60+H60+J60-G60-I60-K60 -> 0 | N60: 5370
B61: 196 | D61: 196-PERSONEL AVANSLARI | E61: =IFERROR(VLOOKUP(B61,'AYRINTILI MİZAN'!$A$2:$G$2057,7,FALSE),0) -> 0 | L61: =E61+F61+H61+J61-G61-I61-K61 -> 0 | N61: 656429
B62: 197 | D62: 197-SAYIM TESELLÜM AVANSLARI | E62: =IFERROR(VLOOKUP(B62,'AYRINTILI MİZAN'!$A$2:$G$2057,7,FALSE),0) -> 0 | L62: =E62+F62+H62+J62-G62-I62-K62 -> 0 | N62: 2539
E63: =IFERROR(VLOOKUP(B63,'AYRINTILI MİZAN'!$A$2:$G$2057,7,FALSE),0) -> 0 | L63: =E63+F63+H63+J63-G63-I63-K63 -> 0
D64: SATIŞ AMACIYLA ELDE TUTULAN DURAN VARLIKLAR | E64: =IFERROR(VLOOKUP(B64,'AYRINTILI MİZAN'!$A$2:$G$2057,7,FALSE),0) -> 0 | L64: =E64+F64+H64+J64-G64-I64-K64 -> 0
E65: =IFERROR(VLOOKUP(B65,'AYRINTILI MİZAN'!$A$2:$G$2057,7,FALSE),0) -> 0 | L65: =E65+F65+H65+J65-G65-I65-K65 -> 0
B66: 198 | D66: 198-DİĞER ÇEŞİTLİ DÖNEN VARLIKLAR | E66: =IFERROR(VLOOKUP(B66,'AYRINTILI MİZAN'!$A$2:$G$2057,7,FALSE),0) -> 0 | L66: =E66+F66+H66+J66-G66-I66-K66 -> 0
B67: 199 | D67: 199-DİĞER DÖNEN VARLIKLAR KARŞILIĞI (-) | E67: =IFERROR(VLOOKUP(B67,'AYRINTILI MİZAN'!$A$2:$G$2057,7,FALSE),0) -> 0 | L67: =E67+F67+H67+J67-G67-I67-K67 -> 0
E68: =IFERROR(VLOOKUP(B68,'AYRINTILI MİZAN'!$A$2:$G$2057,7,FALSE),0) -> 0 | L68: =E68+F68+H68+J68-G68-I68-K68 -> 0
B69: 220 | D69: 220-ALICILAR | E69: =IFERROR(VLOOKUP(B69,'AYRINTILI MİZAN'!$A$2:$G$2057,7,FALSE),0) -> 0 | L69: =E69+F69+H69+J69-G69-I69-K69 -> 0
B70: 228 | D70: 228-ŞÜPHELİ ALACAKLAR | E70: =IFERROR(VLOOKUP(B70,'AYRINTILI MİZAN'!$A$2:$G$2057,7,FALSE),0) -> 0 | L70: =E70+F70+H70+J70-G70-I70-K70 -> 0
B71: 221 | D71: 221-ALACAKLAR FAİZ | E71: =IFERROR(VLOOKUP(B71,'AYRINTILI MİZAN'!$A$2:$G$2057,7,FALSE),0) -> 0 | L71: =E71+F71+H71+J71-G71-I71-K71 -> 0
B72: 224 | D72: 224-KAZANILMAMIŞ FİNANSAL KİRALAMA FAİZ GELİRLERİ | E72: =IFERROR(VLOOKUP(B72,'AYRINTILI MİZAN'!$A$2:$G$2057,7,FALSE),0) -> 0 | L72: =E72+F72+H72+J72-G72-I72-K72 -> 0
B73: 226 | D73: 226-VERİLEN DEPOZİTO VE TEMİNATLAR | E73: =IFERROR(VLOOKUP(B73,'AYRINTILI MİZAN'!$A$2:$G$2057,7,FALSE),0) -> 0 | L73: =E73+F73+H73+J73-G73-I73-K73 -> 0
B74: 227 | D74: 227-DİĞER TİCARİ ALACAKLAR | E74: =IFERROR(VLOOKUP(B74,'AYRINTILI MİZAN'!$A$2:$G$2057,7,FALSE),0) -> 0 | L74: =E74+F74+H74+J74-G74-I74-K74 -> 0
B75: 222 | D75: 222-ALACAK SENETLERİ REESKONTU (-) | E75: =IFERROR(VLOOKUP(B75,'AYRINTILI MİZAN'!$A$2:$G$2057,7,FALSE),0) -> 0 | L75: =E75+F75+H75+J75-G75-I75-K75 -> 0
B76: 229 | D76: 229-ŞÜPHELİ ALACAKLAR KARŞILIĞI (-) | E76: =IFERROR(VLOOKUP(B76,'AYRINTILI MİZAN'!$A$2:$G$2057,7,FALSE),0) -> 0 | L76: =E76+F76+H76+J76-G76-I76-K76 -> 0
E77: =IFERROR(VLOOKUP(B77,'AYRINTILI MİZAN'!$A$2:$G$2057,7,FALSE),0) -> 0 | L77: =E77+F77+H77+J77-G77-I77-K77 -> 0
B78: 231 | D78: 231-ORTAKLARDAN ALACAKLAR | E78: =IFERROR(VLOOKUP(B78,'AYRINTILI MİZAN'!$A$2:$G$2057,7,FALSE),0) -> 0 | L78: =E78+F78+H78+J78-G78-I78-K78 -> 0
B79: 232 | D79: 232-İŞTİRAKLERDEN ALACAKLAR | E79: =IFERROR(VLOOKUP(B79,'AYRINTILI MİZAN'!$A$2:$G$2057,7,FALSE),0) -> 0 | L79: =E79+F79+H79+J79-G79-I79-K79 -> 0
B80: 233 | D80: 233-BAĞLI ORTAK. ALACAKLAR | E80: =IFERROR(VLOOKUP(B80,'AYRINTILI MİZAN'!$A$2:$G$2057,7,FALSE),0) -> 0 | L80: =E80+F80+H80+J80-G80-I80-K80 -> 0
B81: 235 | D81: 235-PERSONELDEN ALACAKLAR | E81: =IFERROR(VLOOKUP(B81,'AYRINTILI MİZAN'!$A$2:$G$2057,7,FALSE),0) -> 0 | L81: =E81+F81+H81+J81-G81-I81-K81 -> 0
B82: 236 | D82: 236-DİĞER ÇEŞİTLİ ALACAKLAR | E82: =IFERROR(VLOOKUP(B82,'AYRINTILI MİZAN'!$A$2:$G$2057,7,FALSE),0) -> 0 | L82: =E82+F82+H82+J82-G82-I82-K82 -> 0
B83: 237 | D83: 237-DİĞER ALACAK SENETLERİ REES. (-) | E83: =IFERROR(VLOOKUP(B83,'AYRINTILI MİZAN'!$A$2:$G$2057,7,FALSE),0) -> 0 | L83: =E83+F83+H83+J83-G83-I83-K83 -> 0
B84: 239 | D84: 239-ŞÜPHELİ ALACAKLAR KARŞILIĞI (-) | E84: =IFERROR(VLOOKUP(B84,'AYRINTILI MİZAN'!$A$2:$G$2057,7,FALSE),0) -> 0 | L84: =E84+F84+H84+J84-G84-I84-K84 -> 0
E85: =IFERROR(VLOOKUP(B85,'AYRINTILI MİZAN'!$A$2:$G$2057,7,FALSE),0) -> 0 | L85: =E85+F85+H85+J85-G85-I85-K85 -> 0
B86: 240 | D86: 240-BAĞL MEKUL KIYMETLER | E86: =IFERROR(VLOOKUP(B86,'AYRINTILI MİZAN'!$A$2:$G$2057,7,FALSE),0) -> 0 | L86: =E86+F86+H86+J86-G86-I86-K86 -> 0
B87: 241 | D87: 241-BAĞLI MENK. KIY. DEĞER DÜŞ. (-) | E87: =IFERROR(VLOOKUP(B87,'AYRINTILI MİZAN'!$A$2:$G$2057,7,FALSE),0) -> 0 | L87: =E87+F87+H87+J87-G87-I87-K87 -> 0
B88: 242 | D88: 242-İŞTİRAKLER | E88: =IFERROR(VLOOKUP(B88,'AYRINTILI MİZAN'!$A$2:$G$2057,7,FALSE),0) -> 0 | L88: =E88+F88+H88+J88-G88-I88-K88 -> 0
B89: 243 | D89: 243-İŞTİRAKLER SERMAYE TAAHHÜTLERİ (-) | E89: =IFERROR(VLOOKUP(B89,'AYRINTILI MİZAN'!$A$2:$G$2057,7,FALSE),0) -> 0 | L89: =E89+F89+H89+J89-G89-I89-K89 -> 0
B90: 244 | D90: 244-İŞTİRAKLER DEĞER DÜĞÜKLÜĞÜ (-) | E90: =IFERROR(VLOOKUP(B90,'AYRINTILI MİZAN'!$A$2:$G$2057,7,FALSE),0) -> 0 | L90: =E90+F90+H90+J90-G90-I90-K90 -> 0
B91: 245 | D91: 245-BAĞLI ORTAKLIKLAR | E91: =IFERROR(VLOOKUP(B91,'AYRINTILI MİZAN'!$A$2:$G$2057,7,FALSE),0) -> 0 | L91: =E91+F91+H91+J91-G91-I91-K91 -> 0
B92: 246 | D92: 246-BAĞLI ORT. SERMAYE TAAH. (-) | E92: =IFERROR(VLOOKUP(B92,'AYRINTILI MİZAN'!$A$2:$G$2057,7,FALSE),0) -> 0 | L92: =E92+F92+H92+J92-G92-I92-K92 -> 0
B93: 247 | D93: 247-BAĞLI ORTAKLIKLAR DEĞER DÜŞ. (-) | E93: =IFERROR(VLOOKUP(B93,'AYRINTILI MİZAN'!$A$2:$G$2057,7,FALSE),0) -> 0 | L93: =E93+F93+H93+J93-G93-I93-K93 -> 0
B94: 248 | D94: 248-DİĞER MALİ DURAN VARLIKLAR | E94: =IFERROR(VLOOKUP(B94,'AYRINTILI MİZAN'!$A$2:$G$2057,7,FALSE),0) -> 0 | L94: =E94+F94+H94+J94-G94-I94-K94 -> 0
B95: 249 | D95: 249-DİĞER MALİ DURAN VARLIKLAR DEĞER DÜŞ. (-) | E95: =IFERROR(VLOOKUP(B95,'AYRINTILI MİZAN'!$A$2:$G$2057,7,FALSE),0) -> 0 | L95: =E95+F95+H95+J95-G95-I95-K95 -> 0
E96: =IFERROR(VLOOKUP(B96,'AYRINTILI MİZAN'!$A$2:$G$2057,7,FALSE),0) -> 0 | L96: =E96+F96+H96+J96-G96-I96-K96 -> 0
B97: 250 | D97: 250-ARSALAR | E97: =IFERROR(VLOOKUP(B97,'AYRINTILI MİZAN'!$A$2:$G$2057,7,FALSE),0) -> 0 | L97: =E97+F97+H97+J97-G97-I97-K97 -> 0
B98: 251 | D98: 251-MADDİ DURAN VARLIKLAR | E98: =IFERROR(VLOOKUP(B98,'AYRINTILI MİZAN'!$A$2:$G$2057,7,FALSE),0) -> 0 | L98: =E98+F98+H98+J98-G98-I98-K98 -> 0
B99: 252 | D99: 252-BİNALAR | E99: =IFERROR(VLOOKUP(B99,'AYRINTILI MİZAN'!$A$2:$G$2057,7,FALSE),0) -> 0 | L99: =E99+F99+H99+J99-G99-I99-K99 -> 0
B100: 253 | D100: 253-TESİS MAKİNE VE BİNALAR | E100: =IFERROR(VLOOKUP(B100,'AYRINTILI MİZAN'!$A$2:$G$2057,7,FALSE),0) -> 0 | L100: =E100+F100+H100+J100-G100-I100-K100 -> 0
B101: 254 | D101: 254-TAŞITLAR | E101: =IFERROR(VLOOKUP(B101,'AYRINTILI MİZAN'!$A$2:$G$2057,7,FALSE),0) -> 0 | L101: =E101+F101+H101+J101-G101-I101-K101 -> 0
B102: 255 | C102: 1200.1 | D102: 255-DEMİRBAŞLAR | E102: =IFERROR(VLOOKUP(B102,'AYRINTILI MİZAN'!$A$2:$G$2057,7,FALSE),0) -> 4323 | L102: =E102+F102+H102+J102-G102-I102-K102 -> 4323
...

Sheet RAPOR MİZANI- PASİF
B2: ='DENETİM BİLGİLERİ'!B3 -> İDEALİST GAYRİMENKUL YATIRIM ORTAKLIĞI A.Ş.
B3: ='RAPOR MİZANI-AKTİF'!B3:L3 -> 31.12.2013 TARİHLİ DÜZELTİLMİŞ MİZANI
B5: HESAP KODU | C5: REF | D5: HESAP NO - HESAP ADI | E5: ŞİRKET | F5: GEÇMİŞ YIL DÜZELTMELERİ | H5: TASNİF | J5: DÜZELTMELERİ | L5: RAPOR TL
B6: 300 | D6: 300-BANKA KREDİLERİ | E6: =IFERROR(VLOOKUP(B6,'AYRINTILI MİZAN'!$A$2:$G$2057,7,FALSE),0)*-1 -> 0 | L6: =E6+G6+I6+K6-F6-H6-J6 -> 0
B7: 301 | D7: 301-FİNANSAL KİRALAMA İŞLEMLERİNDEN BORÇLAR | E7: =IFERROR(VLOOKUP(B7,'AYRINTILI MİZAN'!$A$2:$G$2057,7,FALSE),0)*-1 -> 0 | L7: =E7+G7+I7+K7-F7-H7-J7 -> 0
B8: 302 | D8: 302-ERTELENMİŞ FİN.KİRALAMA BORÇ.MALİYETL(-) | E8: =IFERROR(VLOOKUP(B8,'AYRINTILI MİZAN'!$A$2:$G$2057,7,FALSE),0)*-1 -> 0 | L8: =E8+G8+I8+K8-F8-H8-J8 -> 0
B9: 303 | D9: 303-UZUN VADELİ KREDİ ANAPARA TAKS. | E9: =IFERROR(VLOOKUP(B9,'AYRINTILI MİZAN'!$A$2:$G$2057,7,FALSE),0)*-1 -> 0 | L9: =E9+G9+I9+K9-F9-H9-J9 -> 0
B10: 304 | D10: 304-TAHVİL ANA. BORÇ TAKSİT VE FAİZ. | E10: =IFERROR(VLOOKUP(B10,'AYRINTILI MİZAN'!$A$2:$G$2057,7,FALSE),0)*-1 -> 0 | L10: =E10+G10+I10+K10-F10-H10-J10 -> 0
B11: 305 | D11: 305-ÇIKARILMIŞ BONOLAR SENETLER | E11: =IFERROR(VLOOKUP(B11,'AYRINTILI MİZAN'!$A$2:$G$2057,7,FALSE),0)*-1 -> 0 | L11: =E11+G11+I11+K11-F11-H11-J11 -> 0
B12: 306 | D12: 306-ÇIKARILMIŞ MENKUL KIYMETLER | E12: =IFERROR(VLOOKUP(B12,'AYRINTILI MİZAN'!$A$2:$G$2057,7,FALSE),0)*-1 -> 0 | L12: =E12+G12+I12+K12-F12-H12-J12 -> 0
B13: 308 | D13: 308-MENKUL KIYMET İHRAÇ FARKLARI | E13: =IFERROR(VLOOKUP(B13,'AYRINTILI MİZAN'!$A$2:$G$2057,7,FALSE),0)*-1 -> 0 | L13: =E13+G13+I13+K13-F13-H13-J13 -> 0
B14: 309 | D14: 309-DİĞER MALİ BORÇLAR | E14: =IFERROR(VLOOKUP(B14,'AYRINTILI MİZAN'!$A$2:$G$2057,7,FALSE),0)*-1 -> 0 | L14: =E14+G14+I14+K14-F14-H14-J14 -> 0
E15: =IFERROR(VLOOKUP(B15,'AYRINTILI MİZAN'!$A$2:$G$2057,7,FALSE),0)*-1 -> 0 | L15: =E15+G15+I15+K15-F15-H15-J15 -> 0
B16: 320 | C16: 5300.1 | D16: 320-SATICILAR | E16: =IFERROR(VLOOKUP(B16,'AYRINTILI MİZAN'!$A$2:$G$2057,7,FALSE),0)*-1 -> 2341 | L16: =E16+G16+I16+K16-F16-H16-J16 -> 2341
B17: 323 | D17: 320-SATICILAR REESKONTU (-) | E17: =IFERROR(VLOOKUP(B17,'AYRINTILI MİZAN'!$A$2:$G$2057,7,FALSE),0)*-1 -> 0 | L17: =E17+G17+I17+K17-F17-H17-J17 -> 0
B18: 321 | D18: 321-BORÇ SENETLERİ | E18: =IFERROR(VLOOKUP(B18,'AYRINTILI MİZAN'!$A$2:$G$2057,7,FALSE),0)*-1 -> 0 | L18: =E18+G18+I18+K18-F18-H18-J18 -> 0
D19: İLİŞKİLİ TARAFLARA BORÇLAR | E19: =IFERROR(VLOOKUP(B19,'AYRINTILI MİZAN'!$A$2:$G$2057,7,FALSE),0)*-1 -> 0 | L19: =E19+G19+I19+K19-F19-H19-J19 -> 0
D20: İLİŞKİLİ TARAFLARA BORÇLAR REESKONTU (-) | E20: =IFERROR(VLOOKUP(B20,'AYRINTILI MİZAN'!$A$2:$G$2057,7,FALSE),0)*-1 -> 0 | L20: =E20+G20+I20+K20-F20-H20-J20 -> 0
B21: 329 | D21: 329-DİĞER TİCARİ BORÇLAR | E21: =IFERROR(VLOOKUP(B21,'AYRINTILI MİZAN'!$A$2:$G$2057,7,FALSE),0)*-1 -> 0 | L21: =E21+G21+I21+K21-F21-H21-J21 -> 0
B22: 322 | D22: 322-BORÇ SENETLERİ REESKONTU (-) | E22: =IFERROR(VLOOKUP(B22,'AYRINTILI MİZAN'!$A$2:$G$2057,7,FALSE),0)*-1 -> 0 | L22: =E22+G22+I22+K22-F22-H22-J22 -> 0
E23: =IFERROR(VLOOKUP(B23,'AYRINTILI MİZAN'!$A$2:$G$2057,7,FALSE),0)*-1 -> 0 | L23: =E23+G23+I23+K23-F23-H23-J23 -> 0
B24: 331 | D24: 331-ORTAKLARA BORÇLAR | E24: =IFERROR(VLOOKUP(B24,'AYRINTILI MİZAN'!$A$2:$G$2057,7,FALSE),0)*-1 -> 0 | L24: =E24+G24+I24+K24-F24-H24-J24 -> 0
B25: 332 | D25: 332-İŞTİRAKLERE BORÇLAR | E25: =IFERROR(VLOOKUP(B25,'AYRINTILI MİZAN'!$A$2:$G$2057,7,FALSE),0)*-1 -> 0 | L25: =E25+G25+I25+K25-F25-H25-J25 -> 0
B26: 333 | D26: 333-BAĞLI ORTAKLARA BORÇLAR | E26: =IFERROR(VLOOKUP(B26,'AYRINTILI MİZAN'!$A$2:$G$2057,7,FALSE),0)*-1 -> 0 | L26: =E26+G26+I26+K26-F26-H26-J26 -> 0
B27: 360 | C27: 5700.1 | D27: 360-ÖDENECEK VERGİ VE FONLAR | E27: =IFERROR(VLOOKUP(B27,'AYRINTILI MİZAN'!$A$2:$G$2057,7,FALSE),0)*-1 -> 2704 | L27: =E27+G27+I27+K27-F27-H27-J27 -> 2704 | O27: 2189
B28: 361 | C28: 5700.1 | D28: 361-ÖDENECEK SOSYAL GÜVENLİK KESİNTİLERİ | E28: =IFERROR(VLOOKUP(B28,'AYRINTILI MİZAN'!$A$2:$G$2057,7,FALSE),0)*-1 -> 2888 | L28: =E28+G28+I28+K28-F28-H28-J28 -> 2888 | O28: 3750 | S28: 2533
B29: 391 | D29: 391-HESAPLANAN KDV | E29: =IFERROR(VLOOKUP(B29,'AYRINTILI MİZAN'!$A$2:$G$2057,7,FALSE),0)*-1 -> 0 | L29: =E29+G29+I29+K29-F29-H29-J29 -> 0 | S29: 3887
B30: 392 | D30: 392-DİĞER KDV | E30: =IFERROR(VLOOKUP(B30,'AYRINTILI MİZAN'!$A$2:$G$2057,7,FALSE),0)*-1 -> 0 | L30: =E30+G30+I30+K30-F30-H30-J30 -> 0
B31: 368 | D31: 368-VAD. GEÇ. ERT. TAKS. VER. VE DİĞER YÜK. | E31: =IFERROR(VLOOKUP(B31,'AYRINTILI MİZAN'!$A$2:$G$2057,7,FALSE),0)*-1 -> 0 | L31: =E31+G31+I31+K31-F31-H31-J31 -> 0
B32: 335 | C32: 5700.1 | D32: 335-PERSONELE BORÇLAR | E32: =IFERROR(VLOOKUP(B32,'AYRINTILI MİZAN'!$A$2:$G$2057,7,FALSE),0)*-1 -> 8082 | L32: =E32+G32+I32+K32-F32-H32-J32 -> 8082
B33: 336 | D33: 336-DİĞER ÇEŞİTLİ BORÇLAR | E33: =IFERROR(VLOOKUP(B33,'AYRINTILI MİZAN'!$A$2:$G$2057,7,FALSE),0)*-1 -> 0 | L33: =E33+G33+I33+K33-F33-H33-J33 -> 0
B34: 393 | D34: 393-MERKEZ VE ŞUBELER C/H | E34: =IFERROR(VLOOKUP(B34,'AYRINTILI MİZAN'!$A$2:$G$2057,7,FALSE),0)*-1 -> 0 | L34: =E34+G34+I34+K34-F34-H34-J34 -> 0
B35: 397 | D35: 397-SAYIM TESELLÜM FAZLALARI | E35: =IFERROR(VLOOKUP(B35,'AYRINTILI MİZAN'!$A$2:$G$2057,7,FALSE),0)*-1 -> 0 | L35: =E35+G35+I35+K35-F35-H35-J35 -> 0
B36: 399 | D36: 399-DİĞER ÇEŞİTLİ KAYNAKLAR | E36: =IFERROR(VLOOKUP(B36,'AYRINTILI MİZAN'!$A$2:$G$2057,7,FALSE),0)*-1 -> 0 | L36: =E36+G36+I36+K36-F36-H36-J36 -> 0
B37: 350 | D37: 350-YILL. YAYGIN İNŞAAT VE ONARIM HAKEDİŞ BED. | E37: =IFERROR(VLOOKUP(B37,'AYRINTILI MİZAN'!$A$2:$G$2057,7,FALSE),0)*-1 -> 0 | L37: =E37+G37+I37+K37-F37-H37-J37 -> 0
B38: 337 | D38: 337-DİĞER BORÇ SENETLERİ REESKONTU (-) | E38: =IFERROR(VLOOKUP(B38,'AYRINTILI MİZAN'!$A$2:$G$2057,7,FALSE),0)*-1 -> 0 | L38: =E38+G38+I38+K38-F38-H38-J38 -> 0
E39: =IFERROR(VLOOKUP(B39,'AYRINTILI MİZAN'!$A$2:$G$2057,7,FALSE),0)*-1 -> 0 | L39: =E39+G39+I39+K39-F39-H39-J39 -> 0
B40: 340 | D40: 340-ALINAN SİPARİŞ AVANSLARI | E40: =IFERROR(VLOOKUP(B40,'AYRINTILI MİZAN'!$A$2:$G$2057,7,FALSE),0)*-1 -> 0 | L40: =E40+G40+I40+K40-F40-H40-J40 -> 0
B41: 349 | D41: 349-ALINAN DİĞER AVANSLAR | E41: =IFERROR(VLOOKUP(B41,'AYRINTILI MİZAN'!$A$2:$G$2057,7,FALSE),0)*-1 -> 0 | L41: =E41+G41+I41+K41-F41-H41-J41 -> 0
E42: =IFERROR(VLOOKUP(B42,'AYRINTILI MİZAN'!$A$2:$G$2057,7,FALSE),0)*-1 -> 0 | L42: =E42+G42+I42+K42-F42-H42-J42 -> 0
B43: 370 | D43: 370-DÖNEM VERGİ VE DİĞER YASAL YÜK KARŞ | E43: =IFERROR(VLOOKUP(B43,'AYRINTILI MİZAN'!$A$2:$G$2057,7,FALSE),0)*-1 -> 0 | L43: =E43+G43+I43+K43-F43-H43-J43 -> 0
B44: 371 | D44: 371-DÖN. KARI PEŞİN ÖD.VER. VE DİĞ. YÜK. (-) | E44: =IFERROR(VLOOKUP(B44,'AYRINTILI MİZAN'!$A$2:$G$2057,7,FALSE),0)*-1 -> 0 | L44: =E44+G44+I44+K44-F44-H44-J44 -> 0
B45: 372 | D45: 372-KIDEM TAZMİNATI KARŞILIĞI | E45: =IFERROR(VLOOKUP(B45,'AYRINTILI MİZAN'!$A$2:$G$2057,7,FALSE),0)*-1 -> 0 | L45: =E45+G45+I45+K45-F45-H45-J45 -> 0
B46: 373 | D46: 373-MALİYET GİDER KARŞILIĞI | E46: =IFERROR(VLOOKUP(B46,'AYRINTILI MİZAN'!$A$2:$G$2057,7,FALSE),0)*-1 -> 0 | L46: =E46+G46+I46+K46-F46-H46-J46 -> 0
B47: 379 | D47: 379-DİĞER BORÇ VE GİDER KARŞILIKLARI | E47: =IFERROR(VLOOKUP(B47,'AYRINTILI MİZAN'!$A$2:$G$2057,7,FALSE),0)*-1 -> 0 | G47: ='Geçmiş Yıl'!D9 -> 30689 | J47: =Düzeltmeler!C21 -> 30689 | L47: =E47+G47+I47+K47-F47-H47-J47 -> 0
B48: 380 | D48: 380-GELECEK AYLARA AİT GİDERLER | E48: =IFERROR(VLOOKUP(B48,'AYRINTILI MİZAN'!$A$2:$G$2057,7,FALSE),0)*-1 -> 0 | L48: =E48+G48+I48+K48-F48-H48-J48 -> 0
B49: 381 | D49: 381-GİDER TAHAKKUKLARI | E49: =IFERROR(VLOOKUP(B49,'AYRINTILI MİZAN'!$A$2:$G$2057,7,FALSE),0)*-1 -> 0 | L49: =E49+G49+I49+K49-F49-H49-J49 -> 0
E50: =IFERROR(VLOOKUP(B50,'AYRINTILI MİZAN'!$A$2:$G$2057,7,FALSE),0)*-1 -> 0 | L50: =E50+G50+I50+K50-F50-H50-J50 -> 0
B51: 400 | D51: 400-BANKA KREDİLERİ | E51: =IFERROR(VLOOKUP(B51,'AYRINTILI MİZAN'!$A$2:$G$2057,7,FALSE),0)*-1 -> 0 | L51: =E51+G51+I51+K51-F51-H51-J51 -> 0
B52: 401 | D52: 401-FİNANSAL KİRALAMA İŞLEMLERİNDEN BORÇLAR | E52: =IFERROR(VLOOKUP(B52,'AYRINTILI MİZAN'!$A$2:$G$2057,7,FALSE),0)*-1 -> 0 | L52: =E52+G52+I52+K52-F52-H52-J52 -> 0
B53: 402 | D53: 402- ERTELENMİŞ FİN.KİRALAMA BORÇ.MALİYETL(-) | E53: =IFERROR(VLOOKUP(B53,'AYRINTILI MİZAN'!$A$2:$G$2057,7,FALSE),0)*-1 -> 0 | L53: =E53+G53+I53+K53-F53-H53-J53 -> 0
B54: 407 | D54: 407-ÇIKARILIŞ DİĞER MENKUL KIYMETLER | E54: =IFERROR(VLOOKUP(B54,'AYRINTILI MİZAN'!$A$2:$G$2057,7,FALSE),0)*-1 -> 0 | L54: =E54+G54+I54+K54-F54-H54-J54 -> 0
B55: 409 | D55: 409-DİĞER MALİ BORÇLAR | E55: =IFERROR(VLOOKUP(B55,'AYRINTILI MİZAN'!$A$2:$G$2057,7,FALSE),0)*-1 -> 0 | L55: =E55+G55+I55+K55-F55-H55-J55 -> 0
E56: =IFERROR(VLOOKUP(B56,'AYRINTILI MİZAN'!$A$2:$G$2057,7,FALSE),0)*-1 -> 0 | L56: =E56+G56+I56+K56-F56-H56-J56 -> 0
B57: 420 | D57: 420-SATICILAR | E57: =IFERROR(VLOOKUP(B57,'AYRINTILI MİZAN'!$A$2:$G$2057,7,FALSE),0)*-1 -> 0 | L57: =E57+G57+I57+K57-F57-H57-J57 -> 0
B58: 421 | D58: 421-BORÇ SENETLERİ | E58: =IFERROR(VLOOKUP(B58,'AYRINTILI MİZAN'!$A$2:$G$2057,7,FALSE),0)*-1 -> 0 | L58: =E58+G58+I58+K58-F58-H58-J58 -> 0
B59: 426 | D59: 426-ALINAN DEPOZİTO VE TEMİNATLAR | E59: =IFERROR(VLOOKUP(B59,'AYRINTILI MİZAN'!$A$2:$G$2057,7,FALSE),0)*-1 -> 0 | L59: =E59+G59+I59+K59-F59-H59-J59 -> 0
B60: 429 | D60: 429-DİĞER TİCARİ BORÇLAR | E60: =IFERROR(VLOOKUP(B60,'AYRINTILI MİZAN'!$A$2:$G$2057,7,FALSE),0)*-1 -> 0 | L60: =E60+G60+I60+K60-F60-H60-J60 -> 0
B61: 422 | D61: 422-BORÇ SENETLERİ REESKONTU (-) | E61: =IFERROR(VLOOKUP(B61,'AYRINTILI MİZAN'!$A$2:$G$2057,7,FALSE),0)*-1 -> 0 | L61: =E61+G61+I61+K61-F61-H61-J61 -> 0
E62: =IFERROR(VLOOKUP(B62,'AYRINTILI MİZAN'!$A$2:$G$2057,7,FALSE),0)*-1 -> 0 | L62: =E62+G62+I62+K62-F62-H62-J62 -> 0
B63: 431 | D63: 431-ORTAKLARA BORÇLAR | E63: =IFERROR(VLOOKUP(B63,'AYRINTILI MİZAN'!$A$2:$G$2057,7,FALSE),0)*-1 -> 0 | L63: =E63+G63+I63+K63-F63-H63-J63 -> 0
B64: 432 | D64: 432-İŞTİRAKLERE BORÇLAR | E64: =IFERROR(VLOOKUP(B64,'AYRINTILI MİZAN'!$A$2:$G$2057,7,FALSE),0)*-1 -> 0 | L64: =E64+G64+I64+K64-F64-H64-J64 -> 0
B65: 433 | D65: 433-BAĞLI ORTAKLIKLARA BORÇLAR | E65: =IFERROR(VLOOKUP(B65,'AYRINTILI MİZAN'!$A$2:$G$2057,7,FALSE),0)*-1 -> 0 | L65: =E65+G65+I65+K65-F65-H65-J65 -> 0
B66: 438 | D66: 438-KAM. OLAN ERT. VEYA TAKS. BORÇ. | E66: =IFERROR(VLOOKUP(B66,'AYRINTILI MİZAN'!$A$2:$G$2057,7,FALSE),0)*-1 -> 0 | L66: =E66+G66+I66+K66-F66-H66-J66 -> 0
B67: 436 | D67: 436-DİĞER ÇEŞİTLİ BORÇLAR | E67: =IFERROR(VLOOKUP(B67,'AYRINTILI MİZAN'!$A$2:$G$2057,7,FALSE),0)*-1 -> 0 | L67: =E67+G67+I67+K67-F67-H67-J67 -> 0
B68: 437 | D68: 437-DİĞER BORÇ SENETLERİ REES. (-) | E68: =IFERROR(VLOOKUP(B68,'AYRINTILI MİZAN'!$A$2:$G$2057,7,FALSE),0)*-1 -> 0 | L68: =E68+G68+I68+K68-F68-H68-J68 -> 0
E69: =IFERROR(VLOOKUP(B69,'AYRINTILI MİZAN'!$A$2:$G$2057,7,FALSE),0)*-1 -> 0 | L69: =E69+G69+I69+K69-F69-H69-J69 -> 0
B70: 440 | D70: 440-ALINAN SİPARİŞ AVANSLARI | E70: =IFERROR(VLOOKUP(B70,'AYRINTILI MİZAN'!$A$2:$G$2057,7,FALSE),0)*-1 -> 0 | L70: =E70+G70+I70+K70-F70-H70-J70 -> 0
D71: İZİN ÜCRETLERİ KARŞILIĞI | E71: =IFERROR(VLOOKUP(B71,'AYRINTILI MİZAN'!$A$2:$G$2057,7,FALSE),0)*-1 -> 0 | L71: =E71+G71+I71+K71-F71-H71-J71 -> 0
E72: =IFERROR(VLOOKUP(B72,'AYRINTILI MİZAN'!$A$2:$G$2057,7,FALSE),0)*-1 -> 0 | L72: =E72+G72+I72+K72-F72-H72-J72 -> 0
B73: 472 | D73: 472-KIDEM TAZMİNATI KARŞILIĞI | E73: =IFERROR(VLOOKUP(B73,'AYRINTILI MİZAN'!$A$2:$G$2057,7,FALSE),0)*-1 -> 0 | G73: ='Geçmiş Yıl'!D8 -> 1123 | K73: =Düzeltmeler!D14 -> 3889 | L73: =E73+G73+I73+K73-F73-H73-J73 -> 5012
D74: ERTELENMİŞ VERGİ YÜKÜMLÜLÜĞÜ | E74: =IFERROR(VLOOKUP(B74,'AYRINTILI MİZAN'!$A$2:$G$2057,7,FALSE),0)*-1 -> 0 | L74: =E74+G74+I74+K74-F74-H74-J74 -> 0
B75: 480 | D75: 480-GELECEK YILLARA AİT GİDERLER | E75: =IFERROR(VLOOKUP(B75,'AYRINTILI MİZAN'!$A$2:$G$2057,7,FALSE),0)*-1 -> 0 | L75: =E75+G75+I75+K75-F75-H75-J75 -> 0
B76: 481 | D76: 481-GİDER TAHAKKUKLARI | E76: =IFERROR(VLOOKUP(B76,'AYRINTILI MİZAN'!$A$2:$G$2057,7,FALSE),0)*-1 -> 0 | L76: =E76+G76+I76+K76-F76-H76-J76 -> 0
B77: 492 | D77: 492-GEL. YILL. ERT. VEYA TERK. EDİL. KDV. | E77: =IFERROR(VLOOKUP(B77,'AYRINTILI MİZAN'!$A$2:$G$2057,7,FALSE),0)*-1 -> 0 | L77: =E77+G77+I77+K77-F77-H77-J77 -> 0
B78: 493 | D78: 493-TESİSİ KATILMA PAYLARI | E78: =IFERROR(VLOOKUP(B78,'AYRINTILI MİZAN'!$A$2:$G$2057,7,FALSE),0)*-1 -> 0 | L78: =E78+G78+I78+K78-F78-H78-J78 -> 0
E79: =IFERROR(VLOOKUP(B79,'AYRINTILI MİZAN'!$A$2:$G$2057,7,FALSE),0)*-1 -> 0 | L79: =E79+G79+I79+K79-F79-H79-J79 -> 0
B80: 500 | C80: 7600.1 | D80: 500-SERMAYE | E80: =IFERROR(VLOOKUP(B80,'AYRINTILI MİZAN'!$A$2:$G$2057,7,FALSE),0)*-1 -> 10000000 | L80: =E80+G80+I80+K80-F80-H80-J80 -> 10000000
B81: 501 | D81: 501-SEMAYE TAAHHÜTLERİ (-) | E81: =IFERROR(VLOOKUP(B81,'AYRINTILI MİZAN'!$A$2:$G$2057,7,FALSE),0)*-1 -> 0 | L81: =E81+G81+I81+K81-F81-H81-J81 -> 0
B82: 502 | D82: 502-SERMAYE DÜZELTMESİ OLUMLU FARKLARI | E82: =IFERROR(VLOOKUP(B82,'AYRINTILI MİZAN'!$A$2:$G$2057,7,FALSE),0)*-1 -> 0 | L82: =E82+G82+I82+K82-F82-H82-J82 -> 0
B83: 503 | D83: 503-SERMAYE DÜZELTMESİ OLUMSUZ FARKLARI | E83: =IFERROR(VLOOKUP(B83,'AYRINTILI MİZAN'!$A$2:$G$2057,7,FALSE),0)*-1 -> 0 | L83: =E83+G83+I83+K83-F83-H83-J83 -> 0
B84: 522 | D84: 522-M.D.V. YENİDEN DEĞERLEME ARTIŞ. | E84: =IFERROR(VLOOKUP(B84,'AYRINTILI MİZAN'!$A$2:$G$2057,7,FALSE),0)*-1 -> 0 | L84: =E84+G84+I84+K84-F84-H84-J84 -> 0
B85: 523 | D85: 523-İŞTİRAKLER YENİDEN DEĞER. ARTIŞ. | E85: =IFERROR(VLOOKUP(B85,'AYRINTILI MİZAN'!$A$2:$G$2057,7,FALSE),0)*-1 -> 0 | L85: =E85+G85+I85+K85-F85-H85-J85 -> 0 | T85: 1123
B86: 525 | D86: 525-BORSADA OLUŞAN DEĞER ARTIŞLARI | E86: =IFERROR(VLOOKUP(B86,'AYRINTILI MİZAN'!$A$2:$G$2057,7,FALSE),0)*-1 -> 0 | L86: =E86+G86+I86+K86-F86-H86-J86 -> 0 | T86: 3130
B87: 540 | D87: 540-YASAL YEDEKLER | E87: =IFERROR(VLOOKUP(B87,'AYRINTILI MİZAN'!$A$2:$G$2057,7,FALSE),0)*-1 -> 0 | L87: =E87+G87+I87+K87-F87-H87-J87 -> 0
B88: 541 | D88: 541-STATÜ YEDEKLERİ | E88: =IFERROR(VLOOKUP(B88,'AYRINTILI MİZAN'!$A$2:$G$2057,7,FALSE),0)*-1 -> 0 | L88: =E88+G88+I88+K88-F88-H88-J88 -> 0
B89: 520 | D89: 520-HİSSE SENEDİ İHRAÇ PRİMİ | E89: =IFERROR(VLOOKUP(B89,'AYRINTILI MİZAN'!$A$2:$G$2057,7,FALSE),0)*-1 -> 0 | L89: =E89+G89+I89+K89-F89-H89-J89 -> 0
B90: 529 | D90: 529-DİĞER SERMAYE YEDEKLERİ | E90: =IFERROR(VLOOKUP(B90,'AYRINTILI MİZAN'!$A$2:$G$2057,7,FALSE),0)*-1 -> 0 | F90: ='Geçmiş Yıl'!C14 -> 198 | J90: =Düzeltmeler!C12 -> 83 | L90: =E90+G90+I90+K90-F90-H90-J90 -> -281
B91: 548 | D91: 548-DİĞER KAR YEDEKLERİ | E91: =IFERROR(VLOOKUP(B91,'AYRINTILI MİZAN'!$A$2:$G$2057,7,FALSE),0)*-1 -> 0 | L91: =E91+G91+I91+K91-F91-H91-J91 -> 0
B92: 549 | D92: 549-ÖZEL FONLAR | E92: =IFERROR(VLOOKUP(B92,'AYRINTILI MİZAN'!$A$2:$G$2057,7,FALSE),0)*-1 -> 0 | L92: =E92+G92+I92+K92-F92-H92-J92 -> 0
B93: 542 | D93: 542-OLAĞAN ÜSTÜ YEDEKLER | E93: =IFERROR(VLOOKUP(B93,'AYRINTILI MİZAN'!$A$2:$G$2057,7,FALSE),0)*-1 -> 0 | L93: =E93+G93+I93+K93-F93-H93-J93 -> 0
B94: 524 | D94: 524-MALİYET ARTIŞ FONU | E94: =IFERROR(VLOOKUP(B94,'AYRINTILI MİZAN'!$A$2:$G$2057,7,FALSE),0)*-1 -> 0 | L94: =E94+G94+I94+K94-F94-H94-J94 -> 0
B95: 543 | D95: 543-SERMAYE EKLENECEK İŞT. VE GAY. MEN. SAT.K | E95: =IFERROR(VLOOKUP(B95,'AYRINTILI MİZAN'!$A$2:$G$2057,7,FALSE),0)*-1 -> 0 | L95: =E95+G95+I95+K95-F95-H95-J95 -> 0
B96: 570 | C96: 7600.1 | D96: 570-GEÇMİŞ YIL KARLARI | E96: =IFERROR(VLOOKUP(B96,'AYRINTILI MİZAN'!$A$2:$G$2057,7,FALSE),0)*-1 -> 664 | L96: =E96+G96+I96+K96-F96-H96-J96 -> 664
B97: 580 | C97: 7600.1 | D97: 580-GEÇMİŞ YIL ZARARLARI (-) | E97: =IFERROR(VLOOKUP(B97,'AYRINTILI MİZAN'!$A$2:$G$2057,7,FALSE),0)*-1 -> -784777 | F97: ='Geçmiş Yıl'!C5+1 -> 31456 | G97: ='Geçmiş Yıl'!D15 -> 198 | L97: =E97+G97+I97+K97-F97-H97-J97 -> -816035
B98: 590 | C98: 7600.1 | D98: 590-NET DÖNEM KARI | E98: ='RAPOR MİZANI - GT'!E56 -> -367134 | L98: ='RAPOR MİZANI - GT'!L56 -> -340215
B99: 591 | C99: 7600.1 | D99: 591-NET DÖNEM ZARARI (-) | E99: =IFERROR(VLOOKUP(B99,'AYRINTILI MİZAN'!$A$2:$G$2057,7,FALSE),0)*-1 -> -22689 | L99: =E99+G99+I99+K99-F99-H99-J99 -> -22689
D100: TOPLAM | E100: =SUM(E6:E99) -> 8842079 | F100: =SUM(F6:F99) -> 31654 | G100: =SUM(G6:G99) -> 32010 | H100: =SUM(H6:H99) -> 0 | I100: =SUM(I6:I99) -> 0 | J100: =SUM(J6:J99) -> 30772 | K100: =SUM(K6:K99) -> 3889 | L100: =SUM(L6:L99) -> 8842471
E102: =E100-'RAPOR MİZANI-AKTİF'!E133 -> 1 | F102: =F100-G100 -> -356 | H102: =H100-I100 -> 0 | J102: =J100-K100 -> 26883 | L102: =L100-'RAPOR MİZANI-AKTİF'!L133 -> 0

Sheet RAPOR MİZANI - GT
B2: ='DENETİM BİLGİLERİ'!B3 -> İDEALİST GAYRİMENKUL YATIRIM ORTAKLIĞI A.Ş.
B3: ='RAPOR MİZANI-AKTİF'!B3:L3 -> 31.12.2013 TARİHLİ DÜZELTİLMİŞ MİZANI
B5: HESAP KODU | C5: REF | D5: HESAP NO - HESAP ADI | E5: ŞİRKET | F5: GEÇMİŞ YIL DÜZELTMELERİ | H5: TASNİF | J5: CARİ DÖNEM DÜZELTMELERİ | L5: RAPOR TL
B6: 600 | D6: 600-SATIŞ GELİRLERİ | E6: =IFERROR(VLOOKUP(B6,'AYRINTILI MİZAN'!$A$2:$G$2057,7,FALSE),0)*-1 -> 0 | L6: =E6+G6+I6-F6-H6+K6-J6 -> 0
B7: 601 | D7: 601-YURTDIŞI SATIŞLAR | E7: =IFERROR(VLOOKUP(B7,'AYRINTILI MİZAN'!$A$2:$G$2057,7,FALSE),0)*-1 -> 0 | L7: =E7+G7+I7-F7-H7+K7-J7 -> 0
B8: 602 | D8: 602-DİĞER GELİRLER HESABI | E8: =IFERROR(VLOOKUP(B8,'AYRINTILI MİZAN'!$A$2:$G$2057,7,FALSE),0)*-1 -> 0 | L8: =E8+G8+I8-F8-H8+K8-J8 -> 0
E9: =IFERROR(VLOOKUP(B9,'AYRINTILI MİZAN'!$A$2:$G$2057,7,FALSE),0)*-1 -> 0
B10: 610 | D10: 610-SATIŞTAN İADELER (-) | E10: =IFERROR(VLOOKUP(B10,'AYRINTILI MİZAN'!$A$2:$G$2057,7,FALSE),0)*-1 -> 0 | L10: =E10+G10+I10-F10-H10+K10-J10 -> 0
B11: 611 | D11: 611-SATIŞ İSKONTOLARI (-) | E11: =IFERROR(VLOOKUP(B11,'AYRINTILI MİZAN'!$A$2:$G$2057,7,FALSE),0)*-1 -> 0 | L11: =E11+G11+I11-F11-H11+K11-J11 -> 0
B12: 612 | D12: 612- DİĞER İNDİRİMLER | E12: =IFERROR(VLOOKUP(B12,'AYRINTILI MİZAN'!$A$2:$G$2057,7,FALSE),0)*-1 -> 0 | L12: =E12+G12+I12-F12-H12+K12-J12 -> 0
E13: =IFERROR(VLOOKUP(B13,'AYRINTILI MİZAN'!$A$2:$G$2057,7,FALSE),0)*-1 -> 0
B14: 620 | D14: 620-SATILAN MAMULLER MALİYETİ (-) | E14: =IFERROR(VLOOKUP(B14,'AYRINTILI MİZAN'!$A$2:$G$2057,7,FALSE),0)*-1 -> 0 | L14: =E14+G14+I14-F14-H14+K14-J14 -> 0
B15: 621 | D15: 621-SATILAN TİCARİ MAL MALİYETLERİ (-) | E15: =IFERROR(VLOOKUP(B15,'AYRINTILI MİZAN'!$A$2:$G$2057,7,FALSE),0)*-1 -> 0 | L15: =E15+G15+I15-F15-H15+K15-J15 -> 0
B16: 622 | D16: 622-SATILAN HİZMET MALİYETİ | E16: =IFERROR(VLOOKUP(B16,'AYRINTILI MİZAN'!$A$2:$G$2057,7,FALSE),0)*-1 -> 0 | L16: =E16+G16+I16-F16-H16+K16-J16 -> 0
B17: 623 | D17: 623-DİĞER SATIŞLAR MALİYETİ (-) | E17: =IFERROR(VLOOKUP(B17,'AYRINTILI MİZAN'!$A$2:$G$2057,7,FALSE),0)*-1 -> 0 | L17: =E17+G17+I17-F17-H17+K17-J17 -> 0
E18: =IFERROR(VLOOKUP(B18,'AYRINTILI MİZAN'!$A$2:$G$2057,7,FALSE),0)*-1 -> 0
B19: 631 | D19: 631-PAZARLAMA SAT.VE DAĞ.GİD. (-) | E19: =IFERROR(VLOOKUP(B19,'AYRINTILI MİZAN'!$A$2:$G$2057,7,FALSE),0)*-1 -> 0 | L19: =E19+G19+I19-F19-H19+K19-J19 -> 0
B20: 770 | C20: 8500.1 | D20: 632-GENEL YÖNETİM GİDERLERİ(-) | E20: =IFERROR(VLOOKUP(B20,'AYRINTILI MİZAN'!$A$2:$G$2057,7,FALSE),0)*-1 -> -421531 | I20: 1 | J20: =Düzeltmeler!C13 -> 3806 | K20: =Düzeltmeler!D7+Düzeltmeler!D22 -> 30725 | L20: =E20+G20+I20-F20-H20+K20-J20 -> -394611
B21: 633 | D21: 633-BÜRO GİDERLERİ(-) | E21: =IFERROR(VLOOKUP(B21,'AYRINTILI MİZAN'!$A$2:$G$2057,7,FALSE),0)*-1 -> 0 | L21: =E21+G21+I21-F21-H21+K21-J21 -> 0
B22: 634 | D22: 634-DİĞER İDARİ GİDERLER(-) | E22: =IFERROR(VLOOKUP(B22,'AYRINTILI MİZAN'!$A$2:$G$2057,7,FALSE),0)*-1 -> 0 | L22: =E22+G22+I22-F22-H22+K22-J22 -> 0
E23: =IFERROR(VLOOKUP(B23,'AYRINTILI MİZAN'!$A$2:$G$2057,7,FALSE),0)*-1 -> 0
B24: 654 | D24: 654 KARŞILIK GİDERİ | E24: =IFERROR(VLOOKUP(B24,'AYRINTILI MİZAN'!$A$2:$G$2057,7,FALSE),0)*-1 -> 0 | L24: =E24+G24+I24-F24-H24+K24-J24 -> 0
B25: 637 | D25: 637- AMORTİSMAN GİDERİ - FİRMA | E25: =IFERROR(VLOOKUP(B25,'AYRINTILI MİZAN'!$A$2:$G$2057,7,FALSE),0)*-1 -> 0 | L25: =E25+G25+I25-F25-H25+K25-J25 -> 0
B26: 637 | D26: 637- İTFA PAYLARI GİDERİ - FİRMA | E26: =IFERROR(VLOOKUP(B26,'AYRINTILI MİZAN'!$A$2:$G$2057,7,FALSE),0)*-1 -> 0 | L26: =E26+G26+I26-F26-H26+K26-J26 -> 0
E27: =IFERROR(VLOOKUP(B27,'AYRINTILI MİZAN'!$A$2:$G$2057,7,FALSE),0)*-1 -> 0
B28: 647 | D28: 647-REESKONT FAİZ GELİRLERİ | E28: =IFERROR(VLOOKUP(B28,'AYRINTILI MİZAN'!$A$2:$G$2057,7,FALSE),0)*-1 -> 0 | L28: =E28+G28+I28-F28-H28+K28-J28 -> 0
B29: 640 | D29: 640-İŞTİRAKLERDEN TEMETTÜ GELİRLERİ | E29: =IFERROR(VLOOKUP(B29,'AYRINTILI MİZAN'!$A$2:$G$2057,7,FALSE),0)*-1 -> 0 | L29: =E29+G29+I29-F29-H29+K29-J29 -> 0
B30: 641 | D30: 641-KONUSU KALMAYAN KARŞILIKLAR | E30: =IFERROR(VLOOKUP(B30,'AYRINTILI MİZAN'!$A$2:$G$2057,7,FALSE),0)*-1 -> 0 | L30: =E30+G30+I30-F30-H30+K30-J30 -> 0
B31: 642 | D31: 642-FAİZ GELİRLERİ | E31: =IFERROR(VLOOKUP(B31,'AYRINTILI MİZAN'!$A$2:$G$2057,7,FALSE),0)*-1 -> 54781 | L31: =E31+G31+I31-F31-H31+K31-J31 -> 54781
B32: 646 | D32: 646-KAMBİYO KARLARI | E32: =IFERROR(VLOOKUP(B32,'AYRINTILI MİZAN'!$A$2:$G$2057,7,FALSE),0)*-1 -> 0 | L32: =E32+G32+I32-F32-H32+K32-J32 -> 0
B33: 649 | D33: 649-FAAL. İLGİLİ DİĞ. GELİR. VE KARLAR | E33: =IFERROR(VLOOKUP(B33,'AYRINTILI MİZAN'!$A$2:$G$2057,7,FALSE),0)*-1 -> 0 | L33: =E33+G33+I33-F33-H33+K33-J33 -> 0
B34: 645 | D34: 645-MENKUL KIYMET SATIŞ KARI | E34: =IFERROR(VLOOKUP(B34,'AYRINTILI MİZAN'!$A$2:$G$2057,7,FALSE),0)*-1 -> 0 | L34: =E34+G34+I34-F34-H34+K34-J34 -> 0
D35: VADE FARKI GELİRLERİ | E35: =IFERROR(VLOOKUP(B35,'AYRINTILI MİZAN'!$A$2:$G$2057,7,FALSE),0)*-1 -> 0 | L35: =E35+G35+I35-F35-H35+K35-J35 -> 0
E36: =IFERROR(VLOOKUP(B36,'AYRINTILI MİZAN'!$A$2:$G$2057,7,FALSE),0)*-1 -> 0
E37: =IFERROR(VLOOKUP(B37,'AYRINTILI MİZAN'!$A$2:$G$2057,7,FALSE),0)*-1 -> 0
B38: 656 | D38: 656-KAMBİYO ZARARLARI (-) | E38: =IFERROR(VLOOKUP(B38,'AYRINTILI MİZAN'!$A$2:$G$2057,7,FALSE),0)*-1 -> 0 | L38: =E38+G38+I38-F38-H38+K38-J38 -> 0
B39: 657 | D39: 657-REESKONT FAİZ GİDERLERİ (-) | E39: =IFERROR(VLOOKUP(B39,'AYRINTILI MİZAN'!$A$2:$G$2057,7,FALSE),0)*-1 -> 0 | L39: =E39+G39+I39-F39-H39+K39-J39 -> 0
B40: 659 | D40: 659-DİĞER OLAĞAN GİDER VE ZARARLAR (-) | E40: =IFERROR(VLOOKUP(B40,'AYRINTILI MİZAN'!$A$2:$G$2057,7,FALSE),0)*-1 -> 0 | L40: =E40+G40+I40-F40-H40+K40-J40 -> 0
E41: =IFERROR(VLOOKUP(B41,'AYRINTILI MİZAN'!$A$2:$G$2057,7,FALSE),0)*-1 -> 0
B42: 780 | C42: 8500.2 | D42: 660-KISA VADELİ BORÇLANAMA GİDER. (-) | E42: =IFERROR(VLOOKUP(B42,'AYRINTILI MİZAN'!$A$2:$G$2057,7,FALSE),0)*-1 -> -385 | L42: =E42+G42+I42-F42-H42+K42-J42 -> -385
B43: 661 | D43: 661-UZUN VADELİ BORÇLANMA GİDER. (-) | E43: =IFERROR(VLOOKUP(B43,'AYRINTILI MİZAN'!$A$2:$G$2057,7,FALSE),0)*-1 -> 0 | L43: =E43+G43+I43-F43-H43+K43-J43 -> 0
E44: =IFERROR(VLOOKUP(B44,'AYRINTILI MİZAN'!$A$2:$G$2057,7,FALSE),0)*-1 -> 0
B45: 644 | D45: 644-KONUSU KALMAYAN KARŞILIKLAR | E45: =IFERROR(VLOOKUP(B45,'AYRINTILI MİZAN'!$A$2:$G$2057,7,FALSE),0)*-1 -> 0 | L45: =E45+G45+I45-F45-H45+K45-J45 -> 0
B46: 671 | D46: 671-ÖNCEKİ DÖNEM GELİR VE KARLARI | E46: =IFERROR(VLOOKUP(B46,'AYRINTILI MİZAN'!$A$2:$G$2057,7,FALSE),0)*-1 -> 0 | L46: =E46+G46+I46-F46-H46+K46-J46 -> 0
B47: 679 | D47: 679-DİĞER OLAĞAN DIŞI GELİR VE KAR. | E47: =IFERROR(VLOOKUP(B47,'AYRINTILI MİZAN'!$A$2:$G$2057,7,FALSE),0)*-1 -> 1 | H47: 1 | L47: =E47+G47+I47-F47-H47+K47-J47 -> 0
E48: =IFERROR(VLOOKUP(B48,'AYRINTILI MİZAN'!$A$2:$G$2057,7,FALSE),0)*-1 -> 0
B49: 681 | D49: 681-ÖNCEKİ DÖNEM DIŞI GİDER VE ZARAR. (-) | E49: =IFERROR(VLOOKUP(B49,'AYRINTILI MİZAN'!$A$2:$G$2057,7,FALSE),0)*-1 -> 0 | L49: =E49+G49+I49-F49-H49+K49-J49 -> 0
B50: 689 | D50: 689-DİĞER OLAĞAN DIŞI GİDER VE ZARAR. (-) | E50: =IFERROR(VLOOKUP(B50,'AYRINTILI MİZAN'!$A$2:$G$2057,7,FALSE),0)*-1 -> 0 | L50: =E50+G50+I50-F50-H50+K50-J50 -> 0
E51: =IFERROR(VLOOKUP(B51,'AYRINTILI MİZAN'!$A$2:$G$2057,7,FALSE),0)*-1 -> 0
B52: 690 | D52: 690-DÖNEM KARI VE ZARARI | E52: =IFERROR(VLOOKUP(B52,'AYRINTILI MİZAN'!$A$2:$G$2057,7,FALSE),0)*-1 -> 0 | L52: =E52+G52+I52-F52-H52+K52-J52 -> 0
B53: 691 | D53: 691-DÖNEM KARI VERGİ KARŞILIKLARI | E53: =IFERROR(VLOOKUP(B53,'AYRINTILI MİZAN'!$A$2:$G$2057,7,FALSE),0)*-1 -> 0 | L53: =E53+G53+I53-F53-H53+K53-J53 -> 0
B54: 691 | D54: 691-ERTELENMİŞ VERGİ KARŞILIKLARI | E54: =IFERROR(VLOOKUP(B54,'AYRINTILI MİZAN'!$A$2:$G$2057,7,FALSE),0)*-1 -> 0 | L54: =E54+G54+I54-F54-H54+K54-J54 -> 0
B55: 692 | D55: 692-DÖNEM NET KARI VEYA ZARARI | E55: =IFERROR(VLOOKUP(B55,'AYRINTILI MİZAN'!$A$2:$G$2057,7,FALSE),0)*-1 -> 0 | L55: =E55+G55+I55-F55-H55+K55-J55 -> 0
D56: TOPLAM | E56: =SUM(E6:E55) -> -367134 | F56: =SUM(F6:F55) -> 0 | G56: =SUM(G6:G55) -> 0 | H56: =SUM(H6:H55) -> 1 | I56: =SUM(I6:I55) -> 1 | J56: =SUM(J6:J55) -> 3806 | K56: =SUM(K6:K55) -> 30725 | L56: =SUM(L6:L55) -> -340215

Sheet Geçmiş Yıl
B2: GEÇMİŞ YIL TAŞIMALARI
B5: 580 Geçmiş yıl zararları | C5: 31455
B6: 268 Birikmiş amortisman | C6: 357
B7: 529 Aktüeryal Kazanç
B8: 472 Kıdem tazminatı | D8: 1123
B9: 379 Borç gider karşılıkları | D9: 30689 | F9: Ref 140.1
B14: 529 Aktüeryal Kayıp | C14: 198
B15: 644 Konusu Kalmayan Karş Geliri | D15: =C14 -> 198 | F15: (geçen senenin 644 Hesabı)
B17: İskontolu Kıdem Tazminatı dönem kaydı (2012 düzeltme Kaydı)

Sheet Tasnifler
B2: TASNİF KAYITLARI
A5: 1
B6: 268 Birikmiş amortisman | C6: 9033
B7: 262 Kuruluş ve örgütlenme gid | D7: 9033
B9: TMS/TFRS de Kuruluş ve Örgütlenme giderleri ilgili dönemde giderleştirilir.
A11: 2
B12: 180 Gelecek Aylara Ait Giderler | C12: 620
B13: 280 Gelecek Yıllara Ait Gider | D13: =C12 -> 620
B15: Vade Tasnifi
A17: 3
B18: 102 Bankalar | C18: 348
B19: 181 Gelir Tahakkukları | D19: =C18 -> 348
B21: Vadeli mevduat faiz tahakkukunun bankalar hesabına tasnifi

Sheet Düzeltmeler
B3: DÜZELTME KAYITLARI
A6: 1 | B6: 268 Birikmiş Amortismanlar | C6: =E9 -> 36 | E6: Ref 1200.2
B7: 770 Genel Yönetim Giderleri | D7: =C6 -> 36
C8: vuk | D8: ufrs | E8: fark
B9: Kıst amortisman düzeltmesi | C9: =1643+192 -> 1835 | D9: =1607+192 -> 1799 | E9: =C9-D9 -> 36
A11: 2
B12: 529 Aktüeryal Kayıp | C12: 83
B13: 770 Genel Yönetim Gideri | C13: 3806
B14: 472 Kıdem Tazminatı Gideri | D14: =C12+C13 -> 3889 | E14: Ref 7300.1
B16: İskontolu Kıdem Tazminatı dönem kaydı
A20: 3 | E20: HC 140.1
B21: 379 Diğer Borç ve Gider Karşılıkları | C21: ='Geçmiş Yıl'!D9 -> 30689
B22: 770 Genel Yönetim Giderleri | D22: =C21 -> 30689
B24: Geçmiş yıldan gelen davalar kaybedilmiş ve GYG'de gider olarak yazılmıştır. Bu giderlerin daha önce karşılık ayrıdığımız karlık kısmı iptal kaydı

Sheet Unadjusted Errors
B2: UNADJUSTED ERRORS

Sheet DEF.TAX.
A2: ERETELENMİŞ VERGİ KARŞILIĞI HESAPLAMA TABLOSU
B5: 41274 | C5: 40908
A6: Ertelenmiş vergi aktifleri/ (yükümlülükleri)matrahları
A7: Alacak Reeskontları
A8: Borç Reeskontları
A9: Gider Tahakkukları
A10: Diğer (Giderleştirilen Gelecek Aylara Ait Giderler)
A11: Forward ve Swap İşlemleri
A12: İzin Karşılıklar
A13: Stoklar
A14: Kıdem Tazminatı
A15: Duran Varlıklar
A16: Maddi Duran Varlık Değerlemesi | E16: =C16-B16 -> 0
A17: Şüpheli Alacak karşılığı
A18: Kredi Reeskontları
A19: Dava Karşılıkları | B19: ='RAPOR MİZANI- PASİF'!G49-'RAPOR MİZANI- PASİF'!J49 -> 0
A20: Mali Zararlar | B20: 0
A21: Net ertelenmiş vergi yükümlülüğü matrahı | B21: =SUM(B7:B20) -> 0 | C21: =SUM(C7:C20) -> 0
B24: =B5 -> 41274 | C24: =C5 -> 40908
A25: Ertelenmiş vergi aktifleri/ (yükümlülükleri)
A26: Alacak Reeskontları
A27: Borç Reeskontları
A28: Gider Tahakkukları
A29: Diğer (Giderleştirilen Gelecek Aylara Ait Giderler)
A30: Forward İşlemeleri
A31: İzin Karşılıklar
A32: Stoklar
A33: Kıdem Tazminatı
A34: Duran Varlıklar | F34: =B21*0.2 -> 0
A35: Maddi Duran Varlık Değerlemesi
A36: Şüpheli Alacak karşılığı
A37: Kredi Reeskontları
A38: Dava Karşılıkları
A39: Mali Zararlar
A40: Net ertelenmiş vergi aktifi /pasifi | B40: =SUM(B26:B39) -> 0 | C40: =SUM(C26:C39) -> 0
A41: ertelenmiş vergi geliri / gideri | B41: =B40-C40 -> 0
A43: Ertelenmiş Vergi 31 Aralık 2012 (+) | B43: =B40 -> 0
A44: Gelir Tablosuna Giden Tutar | B44: =B40-C40-B45 -> 0
A45: Özkaynaklardan Mahsup edilen | B45: =B35-C35 -> 0 | E45: =E16*0.2*0.25 -> 0
A46: Ertelenmiş Vergi 31 Aralık 2011 (+) | B46: =C40 -> 0
A48: CARİ DÖNEM ERTELENMİŞ VERGİ KARŞILIĞI | B48: =B41-B35 -> 0
A55: Vergi karşılığının mutabakatı | B55: 41274 | C55: 40908
A56: Vergilendirilebilir kar
A58: Hesaplanan vergi (2012: % 20, 2011: %20)
A60: Vergiye Tabi Olmayan Gelirler
A61: Kanunen kabul edilmeyen giderlerin etkisi
A62: Diğer
A65: Vergi geliri / (gideri)

Sheet Aktif-Rapor
C2: İDEALİST GAYRİMENKUL YATIRIM ORTAKLIĞI A.Ş.
C5: 31 ARALIK 2013 TARİHLİ FİNANSAL DURUM TABLOSU (BİLANÇO)
C6: (Tüm tutarlar,TL olarak gösterilmiştir)
G9: Cari Dönem | H9: Önceki Dönem
F10: Notlar | G10: 41639 | H10: 41274
C12: VARLIKLAR
C14: Dönen Varlıklar | G14: =SUM(G16:G27) -> 8837081 | H14: =SUM(H16:H27) -> 9208684
C16: Nakit ve Nakit Benzerleri | F16: Not 47 | G16: ='RAPOR MİZANI-AKTİF'!L6+'RAPOR MİZANI-AKTİF'!L7+'RAPOR MİZANI-AKTİF'!L9+'RAPOR MİZANI-AKTİF'!L66+'RAPOR MİZANI-AKTİF'!L13 -> 645449 | H16: =1032041+L16 -> 1035681 | J16: =H16-G16 -> 390232 | L16: =L27*-1 -> 3640
C17: Finansal Yatırımlar | F17: Not 7 | G17: 0 | J17: =H17-G17 -> 0
C18: Ticari Alacaklar
C19: - İlişkili Taraflardan Ticari Alacaklar | F19: Not 7 | G19: 0 | H19: 0
C20: - İlişkili Olmayan Taraflardan Ticari Alacaklar | F20: Not 7 | G20: ='RAPOR MİZANI-AKTİF'!L17+'RAPOR MİZANI-AKTİF'!L21+'RAPOR MİZANI-AKTİF'!L22+'RAPOR MİZANI-AKTİF'!L28+'RAPOR MİZANI-AKTİF'!L27+'RAPOR MİZANI-AKTİF'!L19+'RAPOR MİZANI-AKTİF'!L26+'RAPOR MİZANI-AKTİF'!L18 -> 0 | H20: =1784+L20 -> 0 | J20: =H20-G20 -> 0 | L20: =-1784 -> -1784 | M20: Verilen Depozito Teminat
C21: Diğer Alacaklar | J21: =H21-G21 -> 0
C22: İlişkili Taraflardan Diğer Alacaklar | G22: =+'RAPOR MİZANI-AKTİF'!L30+'RAPOR MİZANI-AKTİF'!L36 -> 0 | H22: 0 | J22: =H22-G22 -> 0
C23: İlişkili Olmayan Taraflardan Diğer Alacaklar | F23: Not 9 | G23: ='RAPOR MİZANI-AKTİF'!L34+'RAPOR MİZANI-AKTİF'!L35+'RAPOR MİZANI-AKTİF'!L33+'RAPOR MİZANI-AKTİF'!L23 -> 19392 | H23: =17606+L23+Q23 -> 6762 | J23: =H23-G23 -> -12630 | L23: =L20*-1 -> 1784 | Q23: -12628 | R23: 2012 Peşin Ödenen Vergi (stopaj)
C24: Stoklar | F24: Not 10 | G24: =SUM('RAPOR MİZANI-AKTİF'!L41:L46) -> 7500000 | H24: 7500000 | J24: =H24-G24 -> 0
C25: Peşin Ödenmiş Giderler | F25: Not 12 | G25: ='RAPOR MİZANI-AKTİF'!L54 -> 620 | H25: =N25 -> 375 | J25: =H25-G25 -> -245 | N25: =N27*-1 -> 375 | Q25: =Q23*-1 -> 12628
C26: Cari Dönem Vergisiyle İlgili Varlıklar | F26: Not 40 | G26: ='RAPOR MİZANI-AKTİF'!L59 -> 8719 | H26: =Q25 -> 12628 | J26: =H26-G26 -> 3909
C27: Diğer Dönen Varlıklar | F27: Not 29 | G27: =SUM('RAPOR MİZANI-AKTİF'!L55:L62)+'RAPOR MİZANI-AKTİF'!L48+'RAPOR MİZANI-AKTİF'!L125-'RAPOR MİZANI-AKTİF'!L59 -> 662901 | H27: =657253+L27+N27 -> 653238 | J27: =H27-G27 -> -9663 | L27: -3640 | M27: Vadeli Mevduat faiz tahakkuku | N27: -375 | O27: Peşin Ödenen Giderler
C30: Duran Varlıklar | G30: =SUM(G32:G33) -> 5390 | H30: =SUM(H32:H33) -> 7189
C32: Maddi Duran Varlıklar | F32: Not 14 | G32: =SUM('RAPOR MİZANI-AKTİF'!L97:L106)+'RAPOR MİZANI-AKTİF'!L114 -> 191 | H32: 383 | J32: =H32-G32 -> 192
C33: Maddi Olmayan Duran Varlıklar | F33: Not 17 | G33: ='RAPOR MİZANI-AKTİF'!L110+'RAPOR MİZANI-AKTİF'!L116+'RAPOR MİZANI-AKTİF'!L112 -> 5199 | H33: 6806 | J33: =H33-G33 -> 1607
C36: TOPLAM VARLIKLAR | G36: =G30+G14 -> 8842471 | H36: =H30+H14 -> 9215873
G38: =G36-'RAPOR MİZANI-AKTİF'!L133 -> 0 | H38: =H36-'Pasif-Rapor'!H56 -> 0

Sheet Pasif-Rapor
C2: ='Aktif-Rapor'!C2:H2 -> İDEALİST GAYRİMENKUL YATIRIM ORTAKLIĞI A.Ş.
C5: ='Aktif-Rapor'!C5 -> 31 ARALIK 2013 TARİHLİ FİNANSAL DURUM TABLOSU (BİLANÇO)
C6: (Tüm tutarlar,TL olarak gösterilmiştir)
G10: Cari Dönem | H10: Önceki Dönem
F11: Notlar | G11: 41639 | H11: ='Aktif-Rapor'!H10 -> 41274
C14: KAYNAKLAR
C16: Kısa Vadeli Yükümlülükler | G16: =SUM(G18:G31) -> 16015 | H16: =SUM(H18:H31) -> 53008
C18: Kısa Vadeli Borçlanmalar | G18: =SUM('RAPOR MİZANI- PASİF'!L6:L13)+'RAPOR MİZANI- PASİF'!L14 -> 0 | H18: 0 | J18: =G18-H18 -> 0
C19: Ticari Borçlar
C20: İlişkili Taraflara Ticari Borçlar | G20: ='RAPOR MİZANI- PASİF'!L19+'RAPOR MİZANI- PASİF'!L20 -> 0 | H20: 0 | J20: =G20-H20 -> 0
C21: İlişkili Olmayan Taraflara Ticari Borçlar | F21: Not 7 | G21: ='RAPOR MİZANI- PASİF'!L16+'RAPOR MİZANI- PASİF'!L18+'RAPOR MİZANI- PASİF'!L21+'RAPOR MİZANI- PASİF'!L22+'RAPOR MİZANI- PASİF'!L17 -> 2341 | H21: 3623 | J21: =G21-H21 -> -1282
C22: Çalışanlara Sağlanan Faydalar Kapsamında Borçlar | F22: Not 27 | G22: ='RAPOR MİZANI- PASİF'!L32 -> 8082 | H22: =O22 -> 10306 | J22: =G22-H22 -> -2224 | O22: =O25*-1 -> 10306
C23: Diğer Borçlar
C24: İlişkili Taraflara Diğer Borçlar | G24: ='RAPOR MİZANI- PASİF'!L24+'RAPOR MİZANI- PASİF'!L33 -> 0 | H24: 0 | J24: =G24-H24 -> 0
C25: İlişkili Olmayan Taraflara Diğer Borçlar | F25: Not 9 | G25: =SUM('RAPOR MİZANI- PASİF'!L25:L39)-'RAPOR MİZANI- PASİF'!L32 -> 5592 | H25: =10306+O25+Q25 -> 8390 | J25: =G25-H25 -> -2798 | O25: =-10306 -> -10306 | P25: Personele Borçlar | Q25: =Q31*-1 -> 8390
C26: Dönem Karı Vergi Yükümlülüğü | G26: ='RAPOR MİZANI- PASİF'!L43+'RAPOR MİZANI- PASİF'!L44 -> 0 | H26: 0 | J26: =G26-H26 -> 0
C28: Borç Karşılıkları | J28: =G30-H30 -> -30689
C29: Çalışanlara Sağlanan Faydalara İlişkin Kısa Vadeli Karşılıklar | G29: 0 | H29: 0
C30: Diğer Kısa Vadeli Karşılıklar | F30: Not 25 | G30: ='RAPOR MİZANI- PASİF'!L49+'RAPOR MİZANI- PASİF'!L47 -> 0 | H30: 30689 | J30: =G30-H30 -> -30689
C31: Diğer Yükümlülükler | G31: 0 | H31: =8390+Q31 -> 0 | J31: =G31-H31 -> 0 | Q31: -8390 | R31: Ödenecek SGK Ve Vergiler
C34: Uzun Vadeli Yükümlülükler | G34: =SUM(G36:G41) -> 5012 | H34: =SUM(H36:H41) -> 1123
C36: Uzun Vadeli Borçlanmalar | G36: ='RAPOR MİZANI- PASİF'!L51+'RAPOR MİZANI- PASİF'!L52+'RAPOR MİZANI- PASİF'!L53 -> 0 | H36: 0 | J36: =G36-H36 -> 0
C37: Ticari Borçlar | G37: ='RAPOR MİZANI- PASİF'!L58+'RAPOR MİZANI- PASİF'!L61 -> 0 | H37: 0 | J37: =G37-H37 -> 0
C38: Borç Karşılıkları
C39: Çalışanlara Sağlanan Faydalara İlişkin Uzun Vadeli Karşılıklar | F39: Not 25 | G39: ='RAPOR MİZANI- PASİF'!L73+'RAPOR MİZANI- PASİF'!L71 -> 5012 | H39: 1123 | J39: =G39-H39 -> 3889 | U39: =G39-H39 -> 3889
C40: Diğer Uzun Vadeli Karşılıklar | G40: 0 | H40: 0
C41: Ertelenmiş Vergi Yükümlülüğü | G41: ='RAPOR MİZANI- PASİF'!L74 -> 0 | H41: 0
C43: Özkaynaklar | G43: =SUM(G45:G53) -> 8821444 | H43: =SUM(H45:H53) -> 9161742
C45: Ödenmiş Sermaye | F45: Not 30 | G45: ='RAPOR MİZANI- PASİF'!L80+'RAPOR MİZANI- PASİF'!L81 -> 10000000 | H45: 10000000 | J45: =G45-H45 -> 0
C46: Sermaye Düzeltmesi Olumlu Farkları | G46: ='RAPOR MİZANI- PASİF'!L89 -> 0
C47: Değer Artış Fonları | G47: ='RAPOR MİZANI- PASİF'!L84 -> 0 | H47: 0 | J47: =G47-H47 -> 0
C48: Kardan Ayrılan Kısıtlanmış Yedekler | G48: ='RAPOR MİZANI- PASİF'!L87 -> 0 | H48: 0 | J48: =G48-H48 -> 0
C49: Kar veya Zararda Yeniden Sınıflandırılacak Birikmiş | F49: Not 30
C50: Diğer Kapsamlı Gelirler veya Giderler
C51: Çalışanlara Sağlanan Faydalara İlişkin Aktüeryal (Kayıp)/Kazanç | G51: ='RAPOR MİZANI- PASİF'!L90 -> -281 | H51: ='Geçmiş Yıl'!C14*-1 -> -198 | L51: Buraya 2013/19 bültende Riskten Korunma Kazanç/Kayıpları Yazıyor.
C52: Geçmiş Yıllar Karı / Zararı | F52: Not 30 | G52: ='RAPOR MİZANI- PASİF'!L96+'RAPOR MİZANI- PASİF'!L97+'RAPOR MİZANI- PASİF'!L99 -> -838060 | H52: -809539 | J52: =H52+H53-G52 -> 0
C53: Net Dönem Karı / Zararı | F53: Not 30 | G53: ='G.T-Rapor'!E47 -> -340215 | H53: =+-28719-H51 -> -28521
C56: TOPLAM KAYNAKLAR | G56: =G43+G34+G16 -> 8842471 | H56: =H43+H34+H16 -> 9215873
B58: Control | G58: =G56-'Aktif-Rapor'!G36 -> 0 | H58: =H56-'Aktif-Rapor'!H36 -> 0
G59: =G56-'Aktif-Rapor'!G36 -> 0 | H59: =H56-'Aktif-Rapor'!H36 -> 0

Sheet G.T-Rapor
C3: ='Aktif-Rapor'!C2 -> İDEALİST GAYRİMENKUL YATIRIM ORTAKLIĞI A.Ş.
C6: 31 ARALIK 2013 TARİHİNDE SONA EREN DÖNEME AİT
C7: KAR VEYA ZARAR VE DİĞER KAPSAMLI GELİR TABLOSU
C8: (Tüm tutarlar,TL olarak gösterilmiştir)
E10: Cari Dönem | F10: Önceki Dönem
D11: Notlar | E11: 1 Ocak- 31 Aralık 2013 | F11: 1 Ocak- 31 Aralık 2012 | P11: 1 Ocak- 30 Haziran 2013
C14: KAR VEYA ZARAR KISMI
C16: Hasılat | D16: Not 31 | E16: =SUM('RAPOR MİZANI - GT'!L6:L12)+'RAPOR MİZANI - GT'!L31 -> 54781 | F16: =900990+85362 -> 986352 | H16: 31.12.2012'deki 85.362 tl faiz geliri Finansal Gelirlerden buraya alındı | P16: 30488
C17: Satışların Maliyeti (-) | D17: Not 31 | E17: =SUM('RAPOR MİZANI - GT'!L14:L17) -> 0 | F17: -686314 | P17: 0
C19: BRÜT KAR / ZARAR | E19: =SUM(E16:E18) -> 54781 | F19: =SUM(F16:F18) -> 300038 | P19: =SUM(P16:P18) -> 30488
C21: Genel Yönetim Giderleri (-) | D21: Not 33 | E21: ='RAPOR MİZANI - GT'!L20 -> -394611 | F21: =+-329966 -> -329966 | P21: -194642
C22: Pazarlama Giderleri (-) | E22: 0 | F22: 0 | P22: 0
C23: Araştırma ve Geliştirme Giderleri (-) | E23: 0 | F23: 0 | P23: 0
C24: Esas Faaliyetlerden Diğer Gelirler | D24: Not 34 | E24: ='RAPOR MİZANI - GT'!L33+'RAPOR MİZANI - GT'!L47+'RAPOR MİZANI - GT'!L45+'RAPOR MİZANI - GT'!L46 -> 0 | F24: =1599+'Geçmiş Yıl'!D15 -> 1797 | P24: 0
C25: Esas Faaliyetlerden Diğer Giderler (-) | E25: ='RAPOR MİZANI - GT'!L49+'RAPOR MİZANI - GT'!L50+'RAPOR MİZANI - GT'!L24+'RAPOR MİZANI - GT'!L40 -> 0 | F25: 0 | P25: 0
C27: ESAS FAALİYET KARI / ZARARI | E27: =SUM(E19:E26) -> -339830 | F27: =SUM(F19:F25) -> -28131 | P27: =SUM(P19:P26) -> -164154
C29: Yatırım Faaliyetlerinden Gelirler | E29: 0 | F29: 0 | G29: =G30+G31 -> 0 | H29: =H30+H31 -> 0 | I29: =SUM(I30:I31) -> 0 | J29: =SUM(J30:J31) -> 0 | P29: 0
C30: Yatırım Faaliyetlerinden Giderler (-) | E30: 0 | F30: 0 | P30: 0
C31: Özkaynak Yöntemiyle Değerlenen Yatırımların Karlarından/Zararlarından Paylar | E31: 0 | F31: 0 | P31: 0
C33: FİNANSMAN GİDERİ ÖNCESİ FAALİYET KARI/ZARARI | E33: =E27+E29 -> -339830 | F33: =F27+F29 -> -28131 | P33: =P27+P29 -> -164154
C36: Finansman Giderleri (-) | D36: Not 37 | E36: ='RAPOR MİZANI - GT'!L38+'RAPOR MİZANI - GT'!L42+'RAPOR MİZANI - GT'!L39 -> -385 | F36: -390 | P36: -215
C38: SÜRDÜRÜLEN FAALİYETLER VERGİ ÖNCESİ KARI / ZARARI | E38: =E33+E36 -> -340215 | F38: =F33+F36 -> -28521 | P38: =P33+P36 -> -164369
C41: Sürdürülen Faaliyetler Vergi Gideri/Geliri | E41: 0 | F41: =SUM(F42:F43) -> 0 | P41: 0
C42: Dönem Vergi Geliri / (Gideri) | E42: 0 | F42: 0 | P42: 0
C43: Ertelenmiş Vergi Geliri / (Gideri) | E43: 0 | F43: 0 | P43: 0
C44: Dönem Vergi Gideri/Geliri | E44: - | F44: =SUM(F45:F46) -> 0 | P44: -
C45: Ertelenmiş Vergi Gideri/Geliri | E45: - | F45: - | P45: -
C47: SÜRDÜRÜLEN FAALİYETLER DÖNEM KARI / ZARARI | E47: =E41+E38 -> -340215 | F47: =F41+F38 -> -28521 | P47: =P41+P38 -> -164369
C49: DURDURULAN FAALİYETLER DÖNEM KARI/ZARARI | E49: 0 | F49: 0 | P49: 0
C51: DURDURULAN FAALİYETLER VERGİ SONRASI DÖNEM KARI / ZARARI | E51: =E47+E49 -> -340215 | F51: =F47+F49 -> -28521 | P51: -164369
C53: DÖNEM KARI/ZARARI | E53: =E51 -> -340215 | F53: =F51 -> -28521 | P53: =P51 -> -164369
C55: Dönem Karı/Zararının Dağılımı
C56: Kontrol Gücü Olmayan Paylar | E56: 0 | F56: 0 | P56: 0
C57: Ana Ortaklık Payları | E57: 0 | F57: 0 | P57: 0
C59: Pay Başına Kazanç | D59: Not 41 | E59: =E60+E61 -> -0.0340215 | F59: =F60+F61 -> -0.0028521 | P59: -0.0164369
C60: Sürdürülen Faaliyetlerden Pay Başına Kazanç | E60: =E53/E79 -> -0.0340215 | F60: =F53/F79 -> -0.0028521 | P60: -0.0164369
C61: Durdurulan Faaliyetlerden Pay Başına Kazanç | E61: 0 | F61: 0 | P61: 0
C63: DİĞER KAPSAMLI GELİR | E63: =Düzeltmeler!C12*-1 -> -83 | F63: ='Geçmiş Yıl'!D15*-1 -> -198 | P63: 0
C65: Kar veya Zararda Yeniden Sınıflandırılmayacaklar | E65: =#REF! -> #REF! | F65: =#REF! -> #REF! | P65: #REF!
C67: Kar veya Zarar Olarak Yeniden Sınıflandırılacaklar | E67: =#REF! -> #REF! | F67: =#REF! -> #REF! | P67: #REF!
C70: DİĞER KAPSAMLI GELİR | E70: =E63 -> -83 | F70: =F63 -> -198 | P70: 0
C73: TOPLAM KAPSAMLI GELİR | E73: =E53+E63 -> -340298 | F73: =F53+F63 -> -28719 | P73: =P53+P63 -> -164369
C76: Toplam Kapsamlı Gelirin Dağılımı | D76: Not 19 | E76: =E47/E79 -> -0.0340215 | F76: =F47/F79 -> -0.0028521 | P76: -0.0164369
C77: Kontrol Gücü Olmayan Paylar
C78: Ana Ortaklık Payları
E79: 10000000 | F79: 10000000 | P79: 10000000
E83: =E73-'RAPOR MİZANI - GT'!L56 -> -83 | P83: 0

Sheet Nakit Akım -UFRS
C3: ='Aktif-Rapor'!C2 -> İDEALİST GAYRİMENKUL YATIRIM ORTAKLIĞI A.Ş.
C5: BAĞIMSIZ DENETİMDEN GEÇMİŞ
C6: 31 ARALIK 2013 TARİHİNDE SONA EREN DÖNEME AİT NAKİT AKIŞ TABLOSU
C7: (Tüm tutarlar,TL olarak gösterilmiştir)
G9: Cari Dönem | H9: Önceki Dönem
G10: 1 Ocak - | H10: 1 Ocak -
F11: Notlar | G11: 31 Aralık 2013 | H11: 31 Aralık 2012
C13: A. İŞLETME FAALİYETLERDEN KAYNAKLANAN NAKİT AKIŞLARI | G13: =G14+G15+G29 -> -390232 | H13: =H14+H15+H29 -> 650106
D14: Dönem Karı / Zararı | G14: ='G.T-Rapor'!E38 -> -340215 | H14: ='G.T-Rapor'!F38 -> -28521
D15: Dönem Net Karı/Zararı Mutabakatı ile İlgili Düzeltmeler | G15: =SUM(G16:G27) -> -25084 | H15: =SUM(H16:H27) -> 640
D16: Amortisman ve İtfa Giderleri İle İlgili Düzeltmeler | F16: Not 7,8,15 | G16: =192+1607 -> 1799 | H16: 2236
D17: Değer Düşüklüğü/İptali İle İlgili Düzeltmeler
D18: Karşılıklar İle İlgili Düzeltmeler | G18: =Düzeltmeler!C13-Düzeltmeler!C21 -> -26883 | H18: -1596
D19: Faiz Gelirleri ve Giderleri İle İlgili Düzeltmeler | G19: 0 | H19: 0
D20: Gerçekleşmemiş Yabancı Para Çevirim Farkları İle İlgili Düzeltmeler
D21: Pay Bazlı Ödemeler İle İlgili Düzeltmeler
D22: Gerçeğe Uygun Değer Kayıpları/Kazançları İle İlgili Düzeltmeler
D23: İştiraklerin Dağıtılmamış Karları İle İlgili Düzeltmeler
D24: Vergi Gideri/Geliri İle İlgili Düzeltmeler
D25: Duran Varlıkların Elden Çıkarılmasından Kaynaklanan Kayıp/Kazançlar İle İlgili Düzeltmeler
D26: Yatırım ya da Finansman Faaliyetlerinden Kaynaklanan Nakit Akışlarına Neden Olan Diğer Kalemlere İlişkin Düzeltmeler | G26: 0
D27: Kar/Zarar Mutabakatı İle İlgili Diğer Düzeltmeler
D29: İşletme Sermayesinde Gerçekleşen Değişimler | G29: =SUM(G30:G37) -> -24933 | H29: =SUM(H30:H37) -> 677987
D30: Stoklardaki Artış/Azalışla İlgili Düzeltmeler | F30: 679208 | G30: ='Aktif-Rapor'!J24 -> 0 | H30: 679208 | J30: ok
D31: Ticari Alacaklardaki Artış/Azalışla İlgili Düzeltmeler | F31: -1684 | G31: ='Aktif-Rapor'!J19+'Aktif-Rapor'!J20 -> 0 | H31: -1684 | J31: ok
D32: Finans Sektörü Faaliyetlerinden Alacaklarda Artış/Azalış | G32: 0 | H32: 0
D33: Faaliyetlerle İlgili Diğer Alacaklardaki Artış/Azalışla İlgili Düzeltmeler | G33: ='Aktif-Rapor'!J23+'Aktif-Rapor'!J24 -> -12630 | H33: -14632 | J33: ok
D34: Ticari Borçlardaki Artış/Azalışla İlgili Düzeltmeler | F34: 7754 | G34: ='Pasif-Rapor'!J21 -> -1282 | H34: 1576 | J34: ok
D35: Finans Sektörü Faaliyetlerinden Borçlardaki Artış/Azalış | G35: 0 | H35: 0
D36: Faaliyetlerle İlgili Diğer Borçlardaki Artış/Azalışla İlgili Düzeltmeler | G36: ='Pasif-Rapor'!J22+'Pasif-Rapor'!J25 -> -5022 | H36: 3442 | J36: ok
D37: İşletme Sermayesinde Gerçekleşen Diğer Artış/Azalışla İlgili Düzeltmeler | G37: ='Aktif-Rapor'!J25+'Aktif-Rapor'!J27+'Pasif-Rapor'!J31+'Aktif-Rapor'!J26 -> -5999 | H37: 10077
D39: Faaliyetlerden Elde Edilen Nakit Akışları | G39: =G29+G15+G14 -> -390232 | H39: =H29+H15+H14 -> 650106
D40: Ödenen Temettüler | G40: 0 | H40: 0
D41: Alınan Temettüler | G41: 0 | H41: 0
D42: Ödenen Faiz | G42: 0 | H42: 0
D43: Alınan Faiz | G43: 0 | H43: 0
D44: Vergi Ödemeleri/İadeleri | G44: 0 | H44: 0
D45: Diğer Nakit Girişleri/Çıkışları | G45: 0 | H45: 0
C47: B. YATIRIM FAALİYETLERİNDEN KAYNAKLANAN NAKİT AKIMLARI | G47: 0 | H47: 0
D49: Bağlı Ortaklıkların Kontrolünün Kaybı Sonucunu Doğuracak Satışlara İlişkin Nakit Girişleri
D50: Bağlı Ortaklıkların Kontrolünün Elde Edilmesine Yönelik Alışlara İlişkin Nakit Çıkışları
D51: Başka İşletmelerin veya Fonların Paylarının veya Borçlanma Araçlarının
D52: Satılması Sonucu Elde Edilen Nakit Girişleri
D53: Başka İşletmelerin veya Fonların Paylarının veya Borçlanma Araçlarının
D54: Edinimi İçin Yapılan Nakit Çıkışları
D55: Maddi ve Maddi Olmayan Duran Varlıkların Satışından Kaynaklanan Nakit Girişleri
D56: Maddi ve Maddi Olmayan Duran Varlıkların Alımından Kaynaklanan Nakit Çıkışları
D57: Diğer Uzun Vadeli Varlıkların Satışından Kaynaklanan Nakit Girişleri
D58: Diğer Uzun Vadeli Varlık Alımlarından Nakit Çıkışları
D59: Verilen Nakit Avans ve Borçlarlar
D60: Verilen Nakit Avans ve Borçlardan Geri Ödemeler
... D64: Alınan Temettüler
D65: Ödenen Faiz | F65: Not 7 | H65: 0
D66: Alınan Faiz | F66: Not 7 | H66: 0
D67: Vergi Ödemeleri/İadeler | F67: Not 7 | H67: 0
D68: Diğer Nakit Girişleri/Çıkışları | F68: Not 7 | G68: 0 | H68: 0
D70: Yatırım Faaliyetlerinden Nakit Akışları | G70: =G52+G40+G41+G62 -> 0 | H70: =H52+H40+H41+H62 -> 0
C74: C. FİNANSMAN FAALİYETLERİNDEN KAYNAKLANAN NAKİT AKIMLARI | G74: 0 | H74: 0
D77: Finansman Faaliyetlerinden Nakit Akışları | G77: =SUM(G76:G76) -> 0 | H77: =SUM(H76:H76) -> 0
D79: Vergi Ödemeler/İadeler
D80: Diğer Nakit Girişleri/Çıkışları
C82: NAKİT VE BENZERİ DEĞERLERDEKİ ARTIŞ/ AZALIŞ | G82: =G13+G47+G74 -> -390232 | H82: =H13+H47+H74 -> 650106
C84: DÖNEM BAŞINDAKİ NAKİT VE BENZERİ DEĞERLER | F84: Not 3 | G84: ='Aktif-Rapor'!H16 -> 1035681 | H84: 385575
C86: DÖNEM SONUNDAKİ NAKİT VE NAKİT BENZERLERİ | F86: Not 6 | G86: =G82+G84 -> 645449 | H86: =H82+H84 -> 1035681
G88: ='Aktif-Rapor'!G16-G86 -> 0
G89: =G86-'Aktif-Rapor'!G16 -> 0 | H89: =H86-'Aktif-Rapor'!H16 -> 0
BT90: Cari Yıl | BU90: Geçen Yıl
BM91: a)Üretim Maliyetine Verilen Amortismanlar (730 no.lu hesap) | BT91: 9795598
F92: 41274 | G92: 40908 | H92: 40543 | I92: 40178 | BM92: b)Pazarlama Satış ve Dağıtım Giderlerine Verilen Amortismanlar (760 no.lu hesap)
BM93: c)Genel Yönetim Giderlerine Verilen Amortismanlar (770 no.lu hesap)
D94: Kurumlar vergisi karşılığı (Not | F94: -135553
D95: Eksi: Peşin ödenen vergi ve fonlar | F95: ='RAPOR MİZANI-AKTİF'!E59 -> 8719
D96: Dönem Karı Vergi Yükümlülüğü | F96: =SUM(F94:F95) -> -126834 | G96: =SUM(G94:G95) -> 0 | H96: =SUM(H94:H95) -> 0 | I96: =SUM(I94:I95) -> 0 | BP96: Toplam Amortismanlar | BT96: =BT91+BT92+BT93 -> 9795598 | BU96: =BU91+BU92+BU93 -> 0
D107: Nakit Akım Tablosu | BN107: Hesaplanan | BP107: Kararlaştırılan
F108: Cari Dönem | G108: Cari Dönem | BM108: I.Temettü | BN108: =#REF! -> #REF! | BP108: 5000000
D109: Finansal Tablo Türü | F109: Konsolide Olmayan
D110: Dönem | F110: 30.06.2012 | G110: 30.06.2012
D111: Raporlama Birimi | F111: TL | G111: TL
D113: Net Dönem Karı (Zararı) | F113: 91819 | G113: 91819 | BM113: II.Temettü | BN113: =BN118-BN108 -> #REF! | BP113: =BP118-BP108 -> 1300000
D114: İşletme faaliyetlerinden elde edilen nakit akımları
D115: Amortisman ve itfa payları | F115: 1118 | G115: 1118
D116: Kıdem tazminatı karşılığı | F116: -2038 | G116: -2038
D117: İşletme sermayesindeki değişim öncesi faaliyetlerden elde edilen nakit akımı | F117: 90899 | G117: 90899
D118: Ticari alacaklardaki (artış) /azalış | F118: -1684 | G118: -1684 | BM118: Toplam | BN118: 6300000 | BP118: 6300000
D119: Stoklardaki (artış) / azalış | F119: 679208 | G119: 679208
D120: Diğer alacaklardaki (artış) / azalış | F120: 130 | G120: 130
D121: Diğer dönen varlıklardaki (artış) / azalış | F121: -7805 | G121: -7805
D122: Diğer duran varlıklardaki (artış) / azalış | F122: 0 | G122: 0
D123: Ticari borçlardaki artış / (azalış) | F123: 7754 | G123: 7754
D124: Diğer kısa vadeli yükümlülüklerdeki artış / (azalış) | F124: -2043 | G124: -2043
D125: Diğer borçlardaki artış / (azalış) | F125: 691 | G125: 691
D126: İşletme faaliyetlerinden sağlanan / (kullanılan) net nakit | F126: 676251 | G126: 676251
D127: Yatırım faaliyetleri
D128: Satın alınan maddi ve maddi olmayan varlıklar | F128: 0 | G128: 0
D129: Yatırım faaliyetlerinden (kullanılan) / sağlanan net nakit | F129: 0 | G129: 0
D130: Finansal borçlardaki değişim | F130: 0 | G130: 0
D131: Finansal faaliyetlerde kullanılan net nakit | F131: 0 | G131: 0
D132: Nakit ve nakit benzeri değerlerdeki net artış / (azalış) | F132: 767150 | G132: 767150
D133: Nakit ve nakit benzeri değerlerin dönem başı bakiyesi | F133: 385575 | G133: 385575
D134: Nakit ve nakit benzeri değerlerin dönem sonu bakiyesi | F134: 1152725 | G134: 1152725
...

Sheet Özsermaye-UFRS
B3: ='Aktif-Rapor'!C2 -> İDEALİST GAYRİMENKUL YATIRIM ORTAKLIĞI A.Ş.
B5: BAĞIMSIZ DENETİMDEN GEÇMİŞ
B6: 31 ARALIK 2013 TARİHİNDE SONA EREN DÖNEME AİT ÖZKAYNAKLAR DEĞİŞİM TABLOSU
B7: (Tüm tutarlar,TL olarak gösterilmiştir)
J9: Kar veya Zararda Yeniden Sınıflandırılmayacak Birikmiş Diğer Kapsamlı Gelirler ve Giderler | L9: Kar veya Zararda Yeniden Sınıflandırılacak Birikmiş Diğer Kapsamlı Gelirler ve Giderler | R9: Birikmiş Karlar
D10: Ödenmiş Sermaye | E10: Sermaye Düzeltme Farkları | F10: Geri Alınmış Paylar | G10: Karşılıklı İştrirak Sermaye Düzeltmesi | H10: Pay İhraç Primleri/ İskontoları | J10: Yeniden Değerleme ve Ölçüm Kazanç/ Kayıplar | K10: Kardan Ayrılan Kısıtlanmış Yedekler | L10: Yabancı Para Çevirim Farkları | M10: Riskten Korunma Kazanç/ Kayıpları | N10: Yeniden Değerleme ve Sınıflandırma Kazanç/ Kayıpları | O10: Diğer Kazanç/ Kayıplar | P10: Kardan Ayrılan Kısıtlanmış Yedekler | R10: Geçmiş Yıllar Kar/ Zararları | S10: Net Dönem Karı Zararı | T10: Ana Ortaklığa Ait Özkaynaklar | U10: Kontrol Gücü Olmayan Paylar | V10: Özkaynaklar
B12: ÖNCEKİ DÖNEM
B14: 1 Ocak 2012 İtibariyle Bakiyeler | D14: 10000000 | J14: 0 | K14: 0 | R14: -571633 | S14: -237906 | V14: =SUM(D14:U14) -> 9190461
B16: Transferler | D16: 0 | E16: 0 | F16: 0 | J16: 0 | K16: 0 | R16: =(K16+S16)*-1 -> -237906 | S16: =S14*-1 -> 237906 | V16: =SUM(D16:U16) -> 0
B18: Çalışanlara Sağlanan Faydalara İlişkin Aktüeryal Kayıp/Kazanç | D18: 0 | J18: ='Pasif-Rapor'!H51 -> -198 | K18: 0 | R18: 0 | S18: 0 | V18: =SUM(D18:U18) -> -198
B20: Toplam Kapsamlı Gelir | D20: 0 | E20: 0 | F20: 0 | K20: 0 | R20: 0 | S20: ='Pasif-Rapor'!H53 -> -28521 | V20: =SUM(D20:U20) -> -28521
B22: 31 Aralık 2012 İtibariyle Bakiyeler | D22: =SUM(D14:D20) -> 10000000 | E22: =SUM(E14:E20) -> 0 | F22: =SUM(F14:F20) -> 0 | J22: =SUM(J14:J20) -> -198 | K22: =SUM(K14:K20) -> 0 | R22: =SUM(R14:R20) -> -809539 | S22: =SUM(S14:S20) -> -28521 | V22: =SUM(D22:U22) -> 9161742
B24: CARİ DÖNEM
B26: 1 Ocak 2013 İtibariyle Bakiyeler | D26: =D22 -> 10000000 | E26: =E22 -> 0 | F26: =F22 -> 0 | J26: =J22 -> -198 | K26: =K22 -> 0 | R26: ='Pasif-Rapor'!H52 -> -809539 | S26: ='Pasif-Rapor'!H53 -> -28521 | V26: =SUM(D26:U26) -> 9161742
B28: Tranferler | D28: 0 | E28: 0 | F28: 0 | K28: ='Pasif-Rapor'!J48 -> 0 | R28: =-K28-S28 -> -28521 | S28: =-S26 -> 28521 | V28: =SUM(D28:U28) -> 0
B30: MDV Değer Artışının Amortisman Etkisi | D30: 0 | E30: 0 | F30: ='Pasif-Rapor'!J47 -> 0 | K30: 0 | R30: 0 | S30: 0 | V30: =SUM(D30:U30) -> 0
B32: Çalışanlara Sağlanan Faydalara İlişkin Aktüeryal Kayıp/Kazanç | D32: 0 | J32: ='Pasif-Rapor'!G51-J22 -> -83 | R32: 0 | S32: 0 | V32: =SUM(D32:U32) -> -83
B34: Toplam Kapsamlı Gelir | D34: 0 | E34: 0 | F34: 0 | K34: 0 | R34: 0 | S34: ='G.T-Rapor'!E47 -> -340215 | V34: =SUM(D34:U34) -> -340215
B36: 31 Aralık 2013 İtibariyle Bakiyeler | D36: =SUM(D26:D35) -> 10000000 | E36: =SUM(E26:E35) -> 0 | F36: =SUM(F26:F35) -> 0 | J36: =SUM(J26:J35) -> -281 | K36: =SUM(K26:K35) -> 0 | R36: =SUM(R26:R35) -> -838060 | S36: =SUM(S26:S35) -> -340215 | V36: =SUM(V26:V35) -> 8821444
D38: ='Pasif-Rapor'!G45 -> 10000000 | E38: 0 | F38: ='Pasif-Rapor'!G47 -> 0 | J38: ='Pasif-Rapor'!G51 -> -281 | K38: ='Pasif-Rapor'!G48 -> 0 | R38: ='Pasif-Rapor'!G52 -> -838060 | S38: ='Pasif-Rapor'!G53 -> -340215 | V38: ='Pasif-Rapor'!G43 -> 8821444
D40: =D36-D38 -> 0 | E40: =E36-E38 -> 0 | F40: =F36-F38 -> 0 | J40: =J36-J38 -> 0 | K40: =K36-K38 -> 0 | R40: =R36-R38 -> 0 | S40: =S36-S38 -> 0 | V40: =V36-V38 -> 0

Sheet Dipnot 33
A1: Genel yönetim giderlerinin ayrıntısı aşağıdaki gibidir; | G1: 770.00.1.111 | H1: Brüt Ücretler | I1: 164672
B2: 1 Ocak 2013 - | C2: 1 Ocak 2012 - | G2: 770.00.4.441 | H2: Kira Giderleri | I2: 44373
B3: 41639 | C3: 41274 | G3: 770.00.4.413 | H3: Abone Ve Aidat Giderleri | I3: 43409
G4: 770.00.4.486 | H4: Dava Ve İcra Giderleri | I4: 40754
A5: Personel ücret ve giderleri | B5: =I1+I6+I7+I15 -> 206506 | C5: -192739 | G5: 770.00.3.352 | H5: Mali Ve Hukuki Müşavirlik Giderleri | I5: 28412
A6: Abone ve aidat giderleri | B6: =I3 -> 43409 | C6: -32094 | G6: 770.00.1.141 | H6: Ssk İşveren Payı | I6: 21088
A7: Ofis Kira ve Giderler | B7: =I2+I20+I21+I25 -> 46323 | C7: -36153 | G7: 770.00.4.485 | H7: Kıdem Tazminatları | I7: 18142
A8: Vergi, resim, harç ve sigorta giderleri | B8: =I9+I11+I14+I19+I23 -> 20489 | C8: -13384 | G8: 770.00.4.418 | H8: Muhtelif Giderler | I8: 12240 | L8: 41339 | M8: 2 | N8: 99 | O8: Ft:178521 Ebrar Bilgisayar / Harddisk alımı | P8: 114
A9: Müşavirlik Giderleri | B9: =I5 -> 28412 | C9: -45361 | G9: 770.00.5.501 | H9: Emlak Ve Çevre Temizlik Vergisi | I9: 8299 | L9: 41397 | M9: 1 | N9: 194 | O9: Tfkb 818381-3 Dosya Dava Giderleri | P9: 12065
A10: Kıdem Tazminatı Karşılığı | B10: =Düzeltmeler!C13 -> 3806 | C10: - | G10: 770.00.4.415 | H10: Reklam Ve İlan Giderleri | I10: 6153 | L10: 41606 | M10: 3 | N10: 392 | O10: Ft:22793 Birtek Bilişim Sist. | P10: 60
A11: Dava Karşılık Giderleri | B11: =I4-Düzeltmeler!D22+P9 -> 22130 | C11: -7626 | G11: 770.00.4.430 | H11: Sigorta Ve Kasko Giderleri | I11: 6073
A12: Amortisman giderleri | B12: =I17-Düzeltmeler!C9+Düzeltmeler!D9 -> 1798 | C12: -2236 | G12: 770.00.4.414 | H12: Borsa Kotasyon Ve Vb Ücretler | I12: 5706
A13: Reklam İlan Giderleri | B13: =I10 -> 6153 | C13: 0 | G13: 770.00.4.461 | H13: Temsil Ve Agırlama Giderleri | I13: 4723
A14: Temsil Ağırlama Giderleri | B14: =I13 -> 4723 | G14: 770.00.5.502 | H14: Ticaret Sicil Harç Giderleri | I14: 4429
A15: Diğer | B15: =I12+I16+I18+I22+I24+I26-3+P8+P10 -> 10862 | C15: -373 | D15: =B15/B17 -> 0.027525842 | G15: 770.00.1.142 | H15: İşsizlik İşveren Payı | I15: 2604
G16: 770.00.4.412 | H16: Egitim Ve Seminer Giderleri | I16: 2449
A17: Toplam | B17: =SUM(B5:B15) -> 394611 | C17: =SUM(C5:C15) -> -329966 | G17: 770.00.6.601 | H17: Amortisman Giderleri | I17: 1834
B18: =B17+'G.T-Rapor'!E21 -> 0 | G18: 770.00.4.484 | H18: Noter Giderleri | I18: 1796
G19: 770.00.5.503 | H19: Diğer Vergi Resim Ve Harçlar | I19: 1555
G20: 770.00.3.311 | H20: Elektrik Giderleri | I20: 1032
G21: 770.00.3.332 | H21: Telefon Giderleri | I21: 888
G22: 770.00.4.416 | H22: Servis-Bakım-Onarım Giderleri | I22: 685
G23: 770.00.9.901 | H23: Özel İletişim Vergisi | I23: 133
A24: 621202 | G24: 770.00.4.417 | H24: Ulaşım-Konaklama Giderleri | I24: 48
A25: 1 | G25: 770.00.3.312 | H25: Su Giderleri | I25: 30
A26: 360 | G26: 770.00.9.902 | H26: Diger Kanunen Kabul edilemeyen Giderler | I26: 7
A27: =A24*A25*A26/360000 -> 621.202
