Workbook
Name AS2HasNoAutoHeaderFooter: "OFF"
Name INDEX: INDEX([1]IND!$B$6:$AF$17,MONTH([1]INPUT!$D$11),YEAR([1]INPUT!$D$11)-1975)/INDEX([1]IND!$B$6:$AF$17,MONTH([1]INPUT!$D$21),YEAR([1]INPUT!$D$21)-1975)
Name PLCY: "01.01- "& [2]INPUT!$AH$1
Name Print_Titles_MI: [3]AYRGELIR!$A$112:$IV$131,[3]AYRGELIR!$O$1:$O$65536

Sheet Aktif
B2: İDEALİST GAYRİMENKUL YATIRIM ORTAKLIĞI A.Ş.
B4: BAĞIMSIZ DENETİMDEN GEÇMİŞ
B5: 30 HAZİRAN 2013 TARİHLİ FİNANSAL DURUM TABLOSU (BİLANÇO)
B6: (Tüm tutarlar,TL olarak gösterilmiştir)
G9: Cari Dönem | H9: Önceki Dönem
F10: Notlar | G10: 41455 | H10: 41274
C12: VARLIKLAR
C15: Dönen Varlıklar | G15: 9044789 | H15: 9208684
C17: Nakit ve Nakit Benzerleri | F17: Not 47 | G17: 858945 | H17: 1035681
C18: Diğer Alacaklar
C19: İlişkili Taraflardan Diğer Alacaklar | G19: 0 | H19: 0
C20: İlişkili Olmayan Taraflardan Diğer Alacaklar | F20: Not 9 | G20: 19390 | H20: 6762
C21: Stoklar | F21: Not 10 | G21: 7500000 | H21: 7500000
C22: Peşin Ödenmiş Giderler | F22: Not 12 | G22: 3805 | H22: 375
C23: Cari Dönem Vergisiyle İlgili Varlıklar | F23: Not 40 | G23: 4718 | H23: 12628
C24: Diğer Dönen Varlıklar | F24: Not 29 | G24: 657931 | H24: 653238
C26: Duran Varlıklar | G26: 6200 | H26: 7189
C28: Maddi Duran Varlıklar | F28: Not 14 | G28: 287 | H28: 383
C29: Maddi Olmayan Duran Varlıklar | F29: Not 17 | G29: 5913 | H29: 6806
C31: TOPLAM VARLIKLAR | G31: 9050989 | H31: 9215873

Sheet Pasif
B2: İDEALİST GAYRİMENKUL YATIRIM ORTAKLIĞI A.Ş.
B4: BAĞIMSIZ DENETİMDEN GEÇMİŞ
B5: 30 HAZİRAN 2013 TARİHLİ FİNANSAL DURUM TABLOSU (BİLANÇO)
B6: (Tüm tutarlar,TL olarak gösterilmiştir)
G10: Cari Dönem | H10: Önceki Dönem
F11: Notlar | G11: 41455 | H11: 41274
C14: KAYNAKLAR
C16: Kısa Vadeli Yükümlülükler | G16: 49363 | H16: 53008
C18: Ticari Borçlar
C19: İlişkili Taraflara Ticari Borçlar | G19: 0 | H19: 0
C20: İlişkili Olmayan Taraflara Ticari Borçlar | F20: Not 7 | G20: 1939 | H20: 3623
C21: Çalışanlara Sağlanan Faydalar Kapsamında Borçlar | F21: Not 27 | G21: 10315 | H21: 10306
C22: Diğer Borçlar
C23: İlişkili Taraflara Diğer Borçlar | G23: 0 | H23: 0
C24: İlişkili Olmayan Taraflara Diğer Borçlar | F24: Not 9 | G24: 6420 | H24: 8390
C25: Dönem Karı Vergi Yükümlülüğü | G25: 0 | H25: 0
C27: Borç Karşılıkları
C28: Çalışanlara Sağlanan Faydalara İlişkin Kısa Vadeli Karşılıklar | F28: Not 25 | G28: 0 | H28: 0
C29: Diğer Kısa Vadeli Karşılıklar | F29: Not 25 | G29: 30689 | H29: 30689
C30: Diğer Yükümlülükler | G30: 0 | H30: 0
C33: Uzun Vadeli Yükümlülükler | G33: 4253 | H33: 1123
C35: Uzun Vadeli Borçlanmalar | G35: 0 | H35: 0
C36: Ticari Borçlar | G36: 0 | H36: 0
C37: Borç Karşılıkları
C38: Çalışanlara Sağlanan Faydalara İlişkin Uzun Vadeli Karşılıklar | F38: Not 25 | G38: 4253 | H38: 1123
C39: Diğer Uzun Vadeli Karşılıklar | G39: 0 | H39: 0
C40: Ertelenmiş Vergi Yükümlülüğü | G40: 0 | H40: 0
C43: YÜKÜMLÜLÜKLER TOPLAMI | G43: 53616 | H43: 54131
C45: Özkaynaklar | G45: 8997373 | H45: 9161742
C47: Ödenmiş Sermaye | F47: Not 30 | G47: 10000000 | H47: 10000000
C48: Geçmiş Yıllar Karı / Zararı | F48: Not 30 | G48: -838258 | H48: -809539
C49: Net Dönem Karı / Zararı | F49: Not 30 | G49: -164369 | H49: -28719
C52: TOPLAM KAYNAKLAR | G52: 9050989 | H52: 9215873
B54: Control | G54: 0 | H54: 0

Sheet Kar-Zarar
C3: İDEALİST GAYRİMENKUL YATIRIM ORTAKLIĞI A.Ş.
C5: BAĞIMSIZ DENETİMDEN GEÇMİŞ
C6: 30 HAZİRAN 2013 TARİHİNDE SONA EREN DÖNEME AİT
C7: KAR VEYA ZARAR VE DİĞER KAPSAMLI GELİR TABLOSU
C8: (Tüm tutarlar,TL olarak gösterilmiştir)
E11: Cari Dönem | F11: Cari Dönem | G11: Önceki Dönem | H11: Önceki Dönem
D12: Notlar | E12: 1 Ocak- 30 Haziran 2013 | F12: 1 Nisan- 30 Haziran 2013 | G12: 1 Ocak- 30 Haziran 2012 | H12: 1 Nisan- 30 Haziran 2012
C15: KAR VEYA ZARAR KISMI
C17: Hasılat | D17: Not 31 | E17: 30488 | F17: 13029 | G17: 941657 | H17: 455004 | J17: 30.06.2012 DEKİ 40.667 tl ve son üç ayı 24.311 tl lik faiz geliri Finansal Gelirlerden buraya alındı | R17: 17459
C18: Satışların Maliyeti (-) | D18: Not 31 | E18: 0 | F18: 0 | G18: -686314 | H18: -310076
C20: BRÜT KAR / ZARAR | E20: 30488 | F20: 13029 | G20: 255343 | H20: 144928
C22: Genel Yönetim Giderleri (-) | D22: Not 33 | E22: -194642 | F22: -103005 | G22: -165382 | H22: -80777 | R22: -91637
C23: Pazarlama Giderleri (-) | E23: 0 | F23: 0 | G23: 0 | H23: 0
C24: Araştırma ve Geliştirme Giderleri (-) | E24: 0 | F24: 0 | G24: 0 | H24: 0
C25: Esas Faaliyetlerden Diğer Gelirler | D25: Not 34 | E25: 0 | F25: 0 | G25: 2038 | H25: -85
C26: Esas Faaliyetlerden Diğer Giderler (-) | E26: 0 | F26: 0 | G26: 0 | H26: 0
C28: ESAS FAALİYET KARI / ZARARI | E28: -164154 | F28: -89976 | G28: 91999 | H28: 64066
C30: Yatırım Faaliyetlerinden Gelirler | D30: Not 35 | E30: 0 | F30: 0 | G30: 0 | H30: 0 | I30: 0 | J30: 0 | K30: 0 | L30: 0
C31: Yatırım Faaliyetlerinden Giderler (-) | D31: Not 35 | E31: 0 | F31: 0 | G31: 0 | H31: 0
C32: Özkaynak Yöntemiyle Değerlenen Yatırımların Karlarından/Zararlarından Paylar | E32: 0 | G32: 0
C34: FİNANSMAN GİDERİ ÖNCESİ FAALİYET KARI/ZARARI | E34: -164154 | F34: -89976 | G34: 91999 | H34: 64066
C37: Finansman Giderleri (-) | D37: Not 37 | E37: -215 | F37: -110 | G37: -180 | H37: -105 | R37: -105
C39: SÜRDÜRÜLEN FAALİYETLER VERGİ ÖNCESİ KARI / ZARARI | E39: -164369 | F39: -90086 | G39: 91819 | H39: 63961
C42: Sürdürülen Faaliyetler Vergi Gideri/Geliri | E42: 0 | F42: 0 | G42: 0 | H42: 0
C43: Dönem Vergi Geliri / (Gideri) | E43: 0 | F43: 0 | G43: 0 | H43: 0
C44: Ertelenmiş Vergi Geliri / (Gideri) | E44: 0 | F44: 0 | G44: 0 | H44: 0
C45: Dönem Vergi Gideri/Geliri | E45: - | F45: - | G45: 0 | H45: 0
C46: Ertelenmiş Vergi Gideri/Geliri | E46: - | F46: - | G46: - | H46: -
C48: SÜRDÜRÜLEN FAALİYETLER DÖNEM KARI / ZARARI | E48: -164369 | F48: -90086 | G48: 91819 | H48: 63961
C50: DURDURULAN FAALİYETLER DÖNEM KARI/ZARARI | E50: 0 | F50: 0 | G50: 0 | H50: 0
C52: DURDURULAN FAALİYETLER VERGİ SONRASI DÖNEM KARI / ZARARI | E52: -164369 | F52: -90086 | G52: 91819 | H52: 63961
C54: DÖNEM KARI/ZARARI | E54: -164369 | F54: -90086 | G54: 91819 | H54: 63961
C56: Dönem Karı/Zararının Dağılımı
C57: Kontrol Gücü Olmayan Paylar | E57: 0 | F57: 0 | G57: 0 | H57: 0
C58: Ana Ortaklık Payları | E58: 0 | F58: 0 | G58: 0 | H58: 0
C60: Pay Başına Kazanç | D60: Not 41 | E60: -0.0164369 | F60: -0.0090086 | G60: 0.0091819 | H60: 0.0063961
C61: Sürdürülen Faaliyetlerden Pay Başına Kazanç | E61: -0.0164369 | F61: -0.0090086 | G61: 0.0091819 | H61: 0.0063961
C62: Durdurulan Faaliyetlerden Pay Başına Kazanç | E62: 0 | F62: 0 | G62: 0 | H62: 0
C64: DİĞER KAPSAMLI GELİR | E64: 0 | F64: 0 | G64: 0 | H64: 0
C66: Kar veya Zararda Yeniden Sınıflandırılmayacaklar | E66: #REF! | G66: #REF!
C68: Kar veya Zarar Olarak Yeniden Sınıflandırılacaklar | E68: #REF! | G68: #REF!
C71: DİĞER KAPSAMLI GELİR | E71: 0 | G71: 0
C74: TOPLAM KAPSAMLI GELİR | E74: -164369 | F74: -90086 | G74: 91819 | H74: 63961
C77: Toplam Kapsamlı Gelirin Dağılımı | D77: Not 19 | E77: -0.0164369 | G77: 0.0091819
C78: Kontrol Gücü Olmayan Paylar
C79: Ana Ortaklık Payları
E80: 10000000 | F80: 10000000 | G80: 10000000 | H80: 10000000
E84: 0

Sheet Nakit Akış
C3: =Aktif!B2 -> İDEALİST GAYRİMENKUL YATIRIM ORTAKLIĞI A.Ş.
C5: BAĞIMSIZ DENETİMDEN GEÇMİŞ
C6: 30 HAZİRAN 2013 TARİHİNDE SONA EREN DÖNEME AİT NAKİT AKIŞ TABLOSU
C7: (Tüm tutarlar,TL olarak gösterilmiştir)
E9: Cari Dönem | F9: Önceki Dönem
E10: 1 Ocak - | F10: 1 Ocak -
E11: 30 Haziran 2013 | F11: 30 Haziran 2012
C13: A. İŞLETME FAALİYETLERDEN KAYNAKLANAN NAKİT AKIŞLARI | E13: =E14+E15+E19 -> -176736 | F13: =F14+F15+F19 -> 767150
D14: Dönem Karı / Zararı | E14: ='Kar-Zarar'!E39 -> -164369 | F14: ='Kar-Zarar'!G39 -> 91819
D15: Dönem Net Karı/Zararı Mutabakatı ile İlgili Düzeltmeler | E15: =SUM(E16:E17) -> 4119 | F15: =SUM(F16:F17) -> -920
D16: Amortisman ve İtfa Giderleri İle İlgili Düzeltmeler | E16: 989 | F16: 1118
D17: Karşılıklar İle İlgili Düzeltmeler | E17: 3130 | F17: -2038
D19: İşletme Sermayesinde Gerçekleşen Değişimler | E19: =SUM(E20:E25) -> -16486 | F19: =SUM(F20:F25) -> 676251
D20: Stoklardaki Artış/Azalışla İlgili Düzeltmeler | E20: 0 | F20: 679208 | H20: ok
D21: Ticari Alacaklardaki Artış/Azalışla İlgili Düzeltmeler | E21: 0 | F21: -1684 | H21: ok
D22: Faaliyetlerle İlgili Diğer Alacaklardaki Artış/Azalışla İlgili Düzeltmeler | E22: -12628 | F22: 130 | H22: ok
D23: Ticari Borçlardaki Artış/Azalışla İlgili Düzeltmeler | E23: -1684 | F23: 7754 | H23: ok
D24: Faaliyetlerle İlgili Diğer Borçlardaki Artış/Azalışla İlgili Düzeltmeler | E24: -1961 | F24: 691 | H24: ok
D25: İşletme Sermayesinde Gerçekleşen Diğer Artış/Azalışla İlgili Düzeltmeler | E25: -213 | F25: -9848
D27: Faaliyetlerden Elde Edilen Nakit Akışları | E27: 0 | F27: 0
C29: B. YATIRIM FAALİYETLERİNDEN KAYNAKLANAN NAKİT AKIMLARI | E29: 0 | F29: 0
D31: Yatırım Faaliyetlerinden Nakit Akışları | E31: 0 | F31: 0
C34: C. FİNANSMAN FAALİYETLERİNDEN KAYNAKLANAN NAKİT AKIMLARI | E34: 0 | F34: 0
D36: Finansman Faaliyetlerinden Nakit Akışları | E36: 0 | F36: 0
C39: NAKİT VE BENZERİ DEĞERLERDEKİ ARTIŞ/ AZALIŞ | E39: =E13+E29+E34 -> -176736 | F39: =F13+F29+F34 -> 767150
C41: DÖNEM BAŞINDAKİ NAKİT VE BENZERİ DEĞERLER | E41: =Aktif!H17 -> 1035681 | F41: 385575
C43: DÖNEM SONUNDAKİ NAKİT VE NAKİT BENZERLERİ | E43: =E39+E41 -> 858945 | F43: =F39+F41 -> 1152725
C179: ÖZ KAYNAKLAR DEĞİŞİMİ

Sheet Özsermaye
B3: =Aktif!B2 -> İDEALİST GAYRİMENKUL YATIRIM ORTAKLIĞI A.Ş.
B5: BAĞIMSIZ DENETİMDEN GEÇMİŞ
B6: 30 HAZİRAN 2013 TARİHİNDE SONA EREN DÖNEME AİT ÖZKAYNAKLAR DEĞİŞİM TABLOSU
B7: (Tüm tutarlar,TL olarak gösterilmiştir)
E9: Birikmiş Karlar
C10: Ödenmiş Sermaye | E10: Geçmiş Yıllar Kar/ Zararları | F10: Net Dönem Karı Zararı | G10: Özkaynaklar
B12: ÖNCEKİ DÖNEM
B14: 1 Ocak 2012 İtibariyle Bakiyeler | C14: 10000000 | E14: -571633 | F14: -214843 | G14: =SUM(C14:F14) -> 9213524
B16: Transferler | C16: 0 | E16: =F16*-1 -> -214843 | F16: =F14*-1 -> 214843 | G16: =SUM(C16:F16) -> 0
B18: Toplam Kapsamlı Gelir | C18: 0 | E18: 0 | F18: ='Kar-Zarar'!G74 -> 91819 | G18: =C18+F18+E18 -> 91819
B20: 30 Haziran 2012 İtibariyle Bakiyeler | C20: =SUM(C14:C18) -> 10000000 | E20: =SUM(E14:E18) -> -786476 | F20: =SUM(F14:F18) -> 91819 | G20: =SUM(C20:F20) -> 9305343
B22: CARİ DÖNEM
B24: 1 Ocak 2013 İtibariyle Bakiyeler | C24: =C20 -> 10000000 | E24: =Pasif!H48 -> -809539 | F24: =Pasif!H49 -> -28719 | G24: =SUM(C24:F24) -> 9161742
B26: Tranferler | C26: 0 | E26: =F26*-1 -> -28719 | F26: =-F24 -> 28719 | G26: =SUM(C26:F26) -> 0
B28: Toplam Kapsamlı Gelir | C28: 0 | E28: 0 | F28: ='Kar-Zarar'!E48 -> -164369 | G28: =SUM(C28:F28) -> -164369
B30: 30 Haziran 2013 İtibariyle Bakiyeler | C30: =SUM(C24:C29) -> 10000000 | E30: =SUM(E24:E29) -> -838258 | F30: =SUM(F24:F29) -> -164369 | G30: =SUM(G24:G29) -> 8997373
